BEGIN:VCALENDAR
VERSION:2.0
PRODID:-//ChamberMaster//Event Calendar 2.0//EN
METHOD:PUBLISH
X-PUBLISHED-TTL:P3D
REFRESH-INTERVAL:P3D
CALSCALE:GREGORIAN
BEGIN:VEVENT
DTSTART:20151106T233000Z
DTEND:20151107T030000Z
X-MICROSOFT-CDO-ALLDAYEVENT:FALSE
SUMMARY:Homes for Orphaned Pets Exist Celebration of HOPE Gala
DESCRIPTION:Includes scrumptious food stations\, beer and wine\,silent auction\,wine pull\, dancing to Party of 3.
X-ALT-DESC;FMTTYPE=text/html:Includes scrumptious food stations\, beer and wine\,silent auction\,wine pull\, dancing to Party of 3.
LOCATION:Saratoga National Golf Course
UID:e.2254.12775
SEQUENCE:3
DTSTAMP:20260422T104025Z
URL:https://chamber.saratoga.org/events/details/homes-for-orphaned-pets-exist-celebration-of-hope-gala-11-06-2015-12775
END:VEVENT

END:VCALENDAR
