BEGIN:VCALENDAR
VERSION:2.0
PRODID:-//ChamberMaster//Event Calendar 2.0//EN
METHOD:PUBLISH
X-PUBLISHED-TTL:P3D
REFRESH-INTERVAL:P3D
CALSCALE:GREGORIAN
BEGIN:VEVENT
DTSTART:20150426T180000Z
DTEND:20150426T210000Z
X-MICROSOFT-CDO-ALLDAYEVENT:FALSE
SUMMARY:Home Made Theater - "The Man Who Came to Dinner"
DESCRIPTION:Home Made Theater  "The Man Who Came to Dinner"\n\n\n\nIn this Broadway classic\, it's Christmastime\, 1938 in a small Ohio town when famed author and radio personality Sheridan Whiteside comes to dine at the Stanley family home. A slip on the ice outside lands "Sherry" in the Stanley's living room for a tumultuous\, six-week convalescence\, filled with high comedy\, low farce\, and an array of eccentric\, lovable characters.
X-ALT-DESC;FMTTYPE=text/html:Home Made Theater&nbsp\;&nbsp\;&quot\;The Man Who Came to Dinner&quot\;<br />\n<br />\nIn this Broadway classic\, it&rsquo\;s Christmastime\, 1938 in a small Ohio town when famed author and radio personality Sheridan Whiteside comes to dine at the Stanley family home. A slip on the ice outside lands &ldquo\;Sherry&rdquo\; in the Stanley&rsquo\;s living room for a tumultuous\, six-week convalescence\, filled with high comedy\, low farce\, and an array of eccentric\, lovable characters.
LOCATION:Spa Little Theater\, Spa State Park
UID:e.2254.5502
SEQUENCE:3
DTSTAMP:20260423T214541Z
URL:https://chamber.saratoga.org/events/details/home-made-theater-the-man-who-came-to-dinner-04-26-2015-5502
END:VEVENT

END:VCALENDAR
