BEGIN:VCALENDAR
VERSION:2.0
PRODID:-//ChamberMaster//Event Calendar 2.0//EN
METHOD:PUBLISH
X-PUBLISHED-TTL:P3D
REFRESH-INTERVAL:P3D
CALSCALE:GREGORIAN
BEGIN:VEVENT
DTSTART:20160501T000000Z
DTEND:20160501T020000Z
X-MICROSOFT-CDO-ALLDAYEVENT:FALSE
SUMMARY:Home Made Theater: "Calendar Girls"
DESCRIPTION:"Calendar Girls" by Tim Firth performed at the Spa Little Theater at the Spa State Park. Visit www.homemadetheater.org for more information or call 518-587-4427.
X-ALT-DESC;FMTTYPE=text/html:&quot\;Calendar Girls&quot\; by Tim Firth performed at the Spa Little Theater at the Spa State Park. Visit www.homemadetheater.org for more information or call 518-587-4427.
LOCATION:Spa Little Theater\, Spa State Park
UID:e.2254.14254
SEQUENCE:3
DTSTAMP:20260421T164158Z
URL:https://chamber.saratoga.org/events/details/home-made-theater-calendar-girls-04-30-2016-14254
END:VEVENT

END:VCALENDAR
