BEGIN:VCALENDAR
VERSION:2.0
PRODID:-//ChamberMaster//Event Calendar 2.0//EN
METHOD:PUBLISH
X-PUBLISHED-TTL:P3D
REFRESH-INTERVAL:P3D
CALSCALE:GREGORIAN
BEGIN:VEVENT
DTSTART:20150126T000000Z
DTEND:20150126T040000Z
X-MICROSOFT-CDO-ALLDAYEVENT:FALSE
SUMMARY:Holly & Evan w/s/g Bryan Thomas - Caffe Lena in Saratoga Springs\,NY
DESCRIPTION:Holly & Evan and Drummer Bob (Blues/Jazz/Soul) w/s/g Bryan Thomas (Soul/Rock) will be performing:Sunday\, January 25\, 2015 at 7:00 pmCaffe' Lena\, 47 Phila Street\, Saratoga Springs\, NY 12866(518) 583-0022www.caffelena.orgTicket link:Tickets:  General $15 : Members $12 : Students/Children $7.50Ticket Link:  http://www.caffelena.org/events-calendar/event-detail/?id=a0FG000000ddvELMAY\nHolly & Evan band web-site: www.hollyandevan.com Bryan Thomas band web-site: www.bryanthomas.com \nThank you for your continued support of local music / venues.
X-ALT-DESC;FMTTYPE=text/html:<p>Holly &amp\; Evan and Drummer Bob (Blues/Jazz/Soul) w/s/g Bryan Thomas (Soul/Rock) will be performing:</p><p>Sunday\, January 25\, 2015 at 7:00 pm</p><p>Caffe' Lena\, 47 Phila Street\, Saratoga Springs\, NY 12866</p><p>(518) 583-0022</p><p><a href="http://www.caffelena.org">www.caffelena.org</a></p><p>Ticket link:</p><div id="yiv9429768867yui_3_16_0_1_1419330258570_13582" style="color: rgb(0\, 0\, 0)\; font-family: HelveticaNeue\, Helvetica Neue\, Helvetica\, Arial\, Lucida Grande\, sans-serif\; font-size: 16px\; background-color: rgb(255\, 255\, 255)\;" dir="ltr">Tickets:&nbsp\; General $15 : Members $12 : Students/Children $7.50</div><div id="yiv9429768867yui_3_16_0_1_1419330258570_13755" style="color: rgb(0\, 0\, 0)\; font-family: HelveticaNeue\, Helvetica Neue\, Helvetica\, Arial\, Lucida Grande\, sans-serif\; font-size: 16px\; background-color: rgb(255\, 255\, 255)\;" dir="ltr">Ticket Link:&nbsp\;</div><div style="color: rgb(0\, 0\, 0)\; font-family: HelveticaNeue\, Helvetica Neue\, Helvetica\, Arial\, Lucida Grande\, sans-serif\; font-size: 16px\; background-color: rgb(255\, 255\, 255)\;" dir="ltr">&nbsp\;<a id="yiv9429768867yui_3_16_0_1_1419330258570_13757" href="http://www.caffelena.org/events-calendar/event-detail/?id=a0FG000000ddvELMAY" target="_blank" rel="nofollow"><font color="#0066cc" size="3">http://www.caffelena.org/events-calendar/event-detail/?id=a0FG000000ddvELMAY</font></a></div><div style="color: rgb(0\, 0\, 0)\; font-family: HelveticaNeue\, Helvetica Neue\, Helvetica\, Arial\, Lucida Grande\, sans-serif\; font-size: 16px\; background-color: rgb(255\, 255\, 255)\;" dir="ltr"><br></div><div style="color: rgb(0\, 0\, 0)\; font-family: HelveticaNeue\, Helvetica Neue\, Helvetica\, Arial\, Lucida Grande\, sans-serif\; font-size: 16px\; background-color: rgb(255\, 255\, 255)\;" dir="ltr">Holly &amp\; Evan band web-site: <a href="http://www.hollyandevan.com">www.hollyandevan.com</a> </div><div style="color: rgb(0\, 0\, 0)\; font-family: HelveticaNeue\, Helvetica Neue\, Helvetica\, Arial\, Lucida Grande\, sans-serif\; font-size: 16px\; background-color: rgb(255\, 255\, 255)\;" dir="ltr">Bryan Thomas band web-site: <a href="http://www.bryanthomas.com">www.bryanthomas.com</a> </div><div style="color: rgb(0\, 0\, 0)\; font-family: HelveticaNeue\, Helvetica Neue\, Helvetica\, Arial\, Lucida Grande\, sans-serif\; font-size: 16px\; background-color: rgb(255\, 255\, 255)\;" dir="ltr"><br></div><div style="color: rgb(0\, 0\, 0)\; font-family: HelveticaNeue\, Helvetica Neue\, Helvetica\, Arial\, Lucida Grande\, sans-serif\; font-size: 16px\; background-color: rgb(255\, 255\, 255)\;" dir="ltr">Thank you for your continued support of local music / venues.</div>
LOCATION:Caffe Lena
UID:e.2254.4915
SEQUENCE:3
DTSTAMP:20260424T015519Z
URL:https://chamber.saratoga.org/events/details/holly-evan-w-s-g-bryan-thomas-caffe-lena-in-saratoga-springs-ny-01-25-2015-4915
END:VEVENT

END:VCALENDAR
