BEGIN:VCALENDAR
VERSION:2.0
PRODID:-//ChamberMaster//Event Calendar 2.0//EN
METHOD:PUBLISH
X-PUBLISHED-TTL:P3D
REFRESH-INTERVAL:P3D
CALSCALE:GREGORIAN
BEGIN:VEVENT
DTSTART:20150309T233000Z
DTEND:20150310T023000Z
X-MICROSOFT-CDO-ALLDAYEVENT:FALSE
SUMMARY:Holly & Evan Band at One Caroline Street Bistro
DESCRIPTION:Holly & Evan Band (Blues/Jazz/Soul) will be performing: Monday\, March 9\, 2015 from 7:30pm-10:30pm One Caroline Street Bistro 1 Caroline Street Saratoga Springs\, New York 12866 (518) 587-2026 www.onecaroline.com Holly & Evan Band web-site: www.hollyandevan.com Holly & Evan Facebook Page: https://www.facebook.com/pages/Holly-Evan/164162230261802
X-ALT-DESC;FMTTYPE=text/html:Holly &amp\; Evan Band (Blues/Jazz/Soul) will be performing: Monday\, March 9\, 2015 from 7:30pm-10:30pm One Caroline Street Bistro 1 Caroline Street Saratoga Springs\, New York 12866 (518) 587-2026 www.onecaroline.com Holly &amp\; Evan Band web-site: www.hollyandevan.com Holly &amp\; Evan Facebook Page: https://www.facebook.com/pages/Holly-Evan/164162230261802
LOCATION:One Caroline Street Bistro 1 Caroline Street Saratoga Springs\, New York 12866 (518) 587-2026 www.onecaroline.com
UID:e.2254.6114
SEQUENCE:3
DTSTAMP:20260423T214720Z
URL:https://chamber.saratoga.org/events/details/holly-evan-band-at-one-caroline-street-bistro-03-09-2015-6114
END:VEVENT

END:VCALENDAR
