BEGIN:VCALENDAR
VERSION:2.0
PRODID:-//ChamberMaster//Event Calendar 2.0//EN
METHOD:PUBLISH
X-PUBLISHED-TTL:P3D
REFRESH-INTERVAL:P3D
CALSCALE:GREGORIAN
BEGIN:VEVENT
DTSTART:20151217T220000Z
DTEND:20151218T000000Z
X-MICROSOFT-CDO-ALLDAYEVENT:FALSE
SUMMARY:Holiday Member Mixer
DESCRIPTION:The Saratoga County Chamber of Commerce\, along with sponsors Adirondack Technical Solutions\, The Saratoga Springs City Center and Symphony Catering\, invite you to the largest and most popular mixer of the year. Join nearly 400 of your fellow Chamber members for a fun evening of networking\, while enjoying food and drink specials provided by Symphony Catering. This proves to always be the most popular mixer\, so be sure to register!
X-ALT-DESC;FMTTYPE=text/html:The Saratoga County Chamber of Commerce\, along with sponsors Adirondack Technical Solutions\, The Saratoga Springs City Center and Symphony Catering\, invite you to the largest and most popular mixer of the year. Join nearly 400 of your fellow Chamber members for a fun evening of networking\, while enjoying food and drink specials provided by Symphony Catering. This proves to always be the most popular mixer\, so be sure to register!
LOCATION:Saratoga Springs City Center 522 Broadway Saratoga Springs
UID:e.2254.12811
SEQUENCE:3
DTSTAMP:20260422T101618Z
URL:https://chamber.saratoga.org/events/details/holiday-member-mixer-12-17-2015-12811
END:VEVENT

END:VCALENDAR
