BEGIN:VCALENDAR
VERSION:2.0
PRODID:-//ChamberMaster//Event Calendar 2.0//EN
METHOD:PUBLISH
X-PUBLISHED-TTL:P3D
REFRESH-INTERVAL:P3D
CALSCALE:GREGORIAN
BEGIN:VEVENT
DTSTART:20140907T020000Z
DTEND:20140908T010000Z
X-MICROSOFT-CDO-ALLDAYEVENT:FALSE
SUMMARY:Holiday Inn Saratoga Springs 50th Anniversary Celebration - 09/06/2014
DESCRIPTION:Come join the Holiday Inn Saratoga Springs for an Open House celebrating its 50th birthday!\nWhether it's the day you said\, "I do\," or the night you won the big award\, Grandma's 80th birthday or a charity gala\, each individual memory\, pulled together\, creates a community of stories. For 50 years you've shared your special moments with us. Now\, it's our turn to return the favor!Join us as we commemorate our history and celebrate you\, our community. All are invited to a fun day at the Holiday Inn for an Open House. More details to come!
X-ALT-DESC;FMTTYPE=text/html:<p>Come join the Holiday Inn Saratoga Springs for an Open House celebrating its 50th birthday!</p><p><br /></p><p style="line-height: 150%\;"><span style="line-height: 18px\;">Whether it's the day you said\, "I do\," or the night you won the big award\, Grandma's 80th birthday or a charity gala\, each individual memory\, pulled together\, creates a community of stories.&nbsp\;</span>For 50 years you've shared your special moments with us. Now\, it's our turn to return the favor!</p><p style="line-height: 150%\;">Join us as we commemorate our history and celebrate you\, our community. All are invited to a fun day at the Holiday Inn for an Open House. More details to come!</p><p><br /></p>
LOCATION:Holiday Inn Saratoga Springs
UID:e.2254.1952
SEQUENCE:3
DTSTAMP:20260424T111047Z
URL:https://chamber.saratoga.org/events/details/holiday-inn-saratoga-springs-50th-anniversary-celebration-09-06-2014-09-06-2014-1952
END:VEVENT

END:VCALENDAR
