BEGIN:VCALENDAR
VERSION:2.0
PRODID:-//ChamberMaster//Event Calendar 2.0//EN
METHOD:PUBLISH
X-PUBLISHED-TTL:P3D
REFRESH-INTERVAL:P3D
CALSCALE:GREGORIAN
BEGIN:VEVENT
DTSTART:20161220T200000Z
DTEND:20161220T220000Z
X-MICROSOFT-CDO-ALLDAYEVENT:FALSE
SUMMARY:Holiday Celebration
DESCRIPTION:Mixing\, mingling\, entertainment\, food and friends! Let's celebrate the Holidays! Pay $4.00 at sign up! Sponsored by Centers Health Care.\n\n\n	Music & Dancing by Steve Keller\n	Light Fare\n	Photos by Walgreen's\n	A visit from Santa Claus\n	And more!!!
X-ALT-DESC;FMTTYPE=text/html:<p>Mixing\, mingling\, entertainment\, food and friends! Let&rsquo\;s celebrate the Holidays! Pay $4.00 at sign up!&nbsp\;<em>Sponsored by Centers Health Care.</em></p>\n\n<ul>\n	<li>Music &amp\; Dancing by Steve Keller</li>\n	<li>Light Fare</li>\n	<li>Photos by Walgreen&rsquo\;s</li>\n	<li>A visit from Santa Claus</li>\n	<li>And more!!!</li>\n</ul>\n
LOCATION:Adult & Senior Center 5 Williams Street Saratoga Springs\, NY 12866
UID:e.2254.21434
SEQUENCE:3
DTSTAMP:20260420T183746Z
URL:https://chamber.saratoga.org/events/details/holiday-celebration-21434
END:VEVENT

END:VCALENDAR
