BEGIN:VCALENDAR
VERSION:2.0
PRODID:-//ChamberMaster//Event Calendar 2.0//EN
METHOD:PUBLISH
X-PUBLISHED-TTL:P3D
REFRESH-INTERVAL:P3D
CALSCALE:GREGORIAN
BEGIN:VEVENT
DTSTART:20160514T160000Z
DTEND:20160514T170000Z
X-MICROSOFT-CDO-ALLDAYEVENT:FALSE
SUMMARY:Historic Homes Tour: Lunch & Lecture
DESCRIPTION:Lillian Russell & Diamond Jim Brady: A Saratoga Love Affair Join the Saratoga Springs Preservation Foundation for a boxed lunch and lecture with Charlie Kuenzel & Dave Patterson of Saratoga Tours. They will give a brief overview of this eccentric duo's relationship and delve deeper into their time spent in Saratoga Springs.
X-ALT-DESC;FMTTYPE=text/html:Lillian Russell &amp\; Diamond Jim Brady: A Saratoga Love Affair Join the Saratoga Springs Preservation Foundation for a boxed lunch and lecture with Charlie Kuenzel &amp\; Dave Patterson of Saratoga Tours. They will give a brief overview of this eccentric duo&#39\;s relationship and delve deeper into their time spent in Saratoga Springs.
LOCATION:Universal Preservation Hall- 45 Washington Street
UID:e.2254.16538
SEQUENCE:3
DTSTAMP:20260421T160535Z
URL:https://chamber.saratoga.org/events/details/historic-homes-tour-lunch-lecture-05-14-2016-16538
END:VEVENT

END:VCALENDAR
