BEGIN:VCALENDAR
VERSION:2.0
PRODID:-//ChamberMaster//Event Calendar 2.0//EN
METHOD:PUBLISH
X-PUBLISHED-TTL:P3D
REFRESH-INTERVAL:P3D
CALSCALE:GREGORIAN
BEGIN:VEVENT
DTSTART:20160711T130000Z
DTEND:20160722T193000Z
X-MICROSOFT-CDO-ALLDAYEVENT:FALSE
SUMMARY:Highlight Acting Troupe Summer Camp
DESCRIPTION:The Highlight Acting Troupe is sponsoring a 2 week theater program for children 6-14 at the Brittonkill District Auditorium from July 11 to 22. The program costs $200\, and runs from 9:00 am to 3:30 pm. Registration and a deposit is due by May 29. In the morning the children will be divided into two groups. Ages 6-9 will be going on a story book adventure where they will learn the fundamentals of acting. Children 10-14 will be creating their own character and bring it to life. In the afternoon the children will be working on their performance. They will be learning acting\, music\, dance\, improve and set design. The last day will include a luncheon for the families followed by the children?s performance. For further information call Ethel (237-6936) or email Highlightacting@yahoo.com. Visit our website www.highlightacting.com for a registration form and brochure.
X-ALT-DESC;FMTTYPE=text/html:The Highlight Acting Troupe is sponsoring a 2 week theater program for children 6-14 at the Brittonkill District Auditorium from July 11&nbsp\;to 22. The program costs $200\, and runs from 9:00 am to 3:30 pm. Registration and a deposit is due by May 29. In the morning the children will be divided into two groups. Ages 6-9 will be going on a story book adventure where they will learn the fundamentals of acting. Children 10-14 will be creating their own character and bring it to life. In the afternoon the children will be working on their performance. They will be learning acting\, music\, dance\, improve and set design. The last day will include a luncheon for the families followed by the children?s performance. For further information call Ethel (237-6936) or email Highlightacting@yahoo.com. Visit our website www.highlightacting.com for a registration form and brochure.
LOCATION:Brunswick Central School
UID:e.2254.16330
SEQUENCE:3
DTSTAMP:20260421T122620Z
URL:https://chamber.saratoga.org/events/details/highlight-acting-troupe-summer-camp-07-11-2016-16330
END:VEVENT

END:VCALENDAR
