BEGIN:VCALENDAR
VERSION:2.0
PRODID:-//ChamberMaster//Event Calendar 2.0//EN
METHOD:PUBLISH
X-PUBLISHED-TTL:P3D
REFRESH-INTERVAL:P3D
CALSCALE:GREGORIAN
BEGIN:VEVENT
DTSTART;VALUE=DATE:20160409
DTEND;VALUE=DATE:20160502
TRANSP:TRANSPARENT
X-MICROSOFT-CDO-ALLDAYEVENT:TRUE
SUMMARY:High School Juried Show\, 25th Anniversary
DESCRIPTION:This year\, we celebrate the 25th year of the High School Juried Show. Every year\, local high schools submit student artwork which is then chosen by a jury of regional professional artists. Out of thousands of submissions\, only 100 pieces are selected for the final exhibition.
X-ALT-DESC;FMTTYPE=text/html:This year\, we celebrate the 25th year of the High School Juried Show. Every year\, local high schools submit student artwork which is then chosen by a jury of regional professional artists. Out of thousands of submissions\, only 100 pieces are selected for the final exhibition.
LOCATION:The Hyde Collection 161 Warren St.\, Glens Falls\, NY 12801
UID:e.2254.15650
SEQUENCE:3
DTSTAMP:20260421T160707Z
URL:https://chamber.saratoga.org/events/details/high-school-juried-show-25th-anniversary-04-09-2016-15650
END:VEVENT

END:VCALENDAR
