BEGIN:VCALENDAR
VERSION:2.0
PRODID:-//ChamberMaster//Event Calendar 2.0//EN
METHOD:PUBLISH
X-PUBLISHED-TTL:P3D
REFRESH-INTERVAL:P3D
CALSCALE:GREGORIAN
BEGIN:VEVENT
DTSTART:20150509T123000Z
DTEND:20150509T160000Z
X-MICROSOFT-CDO-ALLDAYEVENT:FALSE
SUMMARY:Hemophilia Walk/Run
DESCRIPTION:To whom it may concern On May 9\, 2015\, The Bleeding Disorders Association of Northeastern New York (BDANENY) will hold a hemophilia walk at the Saratoga Performing Arts Center. The BDANENY will be 1 out of 36 sites walking across the country to raise critical funds in the National Hemophilia Foundation?s largest event dedicated to finding better treatments and cures for inheritable bleeding disorders. To date\, the national Walk program has raised more than $11 million to support the bleeding disorders community. Our chapter will be a part of that success! All monies raised on a local level will stay in our community. About hemophilia and other bleeding disorders: Approximately 20\,000 people are living with hemophilia in the United States. The most common bleeding disorder affecting women and men is von Willebrand disease. Each bleeding disorder has its own range of severity. Some people have bleeds every week\, some every month\, and others maybe only once a year. Hemophilia and von Willebrand disease are life-long conditions. Currently there are no cures\, but scientists are actively engaged in finding cures and improving treatments. You can support our efforts by: Making a tax-deductible contribution to: The BDANENY\, P.O. Box 947\, Rensselaer\, NY 12144 Volunteer at our walk on May 9\, 2015 Become a captain of a team I hope that I can count on your support for this exciting event. Hundreds of families in our community\, and thousands across the country\, will benefit from your contributions and the success of the Walk. Thank you in advance for your support! Sincerely\, Velvet Kopach 518-221-1141 The Bleeding Disorders Association of NENY\, Inc. is a non-profit (501c3) organization\, tax identification number 22-2519156\, dedicated to the voluntary service of persons with hemophilia\, von Willebrand disease (vWD) and/or other genetic bleeding disorders.
X-ALT-DESC;FMTTYPE=text/html:To whom it may concern On May 9\, 2015\, The Bleeding Disorders Association of Northeastern New York (BDANENY) will hold a hemophilia walk at the Saratoga Performing Arts Center. The BDANENY will be 1 out of 36 sites walking across the country to raise critical funds in the National Hemophilia Foundation?s largest event dedicated to finding better treatments and cures for inheritable bleeding disorders. To date\, the national Walk program has raised more than $11 million to support the bleeding disorders community. Our chapter will be a part of that success! All monies raised on a local level will stay in our community. About hemophilia and other bleeding disorders: Approximately 20\,000 people are living with hemophilia in the United States. The most common bleeding disorder affecting women and men is von Willebrand disease. Each bleeding disorder has its own range of severity. Some people have bleeds every week\, some every month\, and others maybe only once a year. Hemophilia and von Willebrand disease are life-long conditions. Currently there are no cures\, but scientists are actively engaged in finding cures and improving treatments. You can support our efforts by: Making a tax-deductible contribution to: The BDANENY\, P.O. Box 947\, Rensselaer\, NY 12144 Volunteer at our walk on May 9\, 2015 Become a captain of a team I hope that I can count on your support for this exciting event. Hundreds of families in our community\, and thousands across the country\, will benefit from your contributions and the success of the Walk. Thank you in advance for your support! Sincerely\, Velvet Kopach 518-221-1141 The Bleeding Disorders Association of NENY\, Inc. is a non-profit (501c3) organization\, tax identification number 22-2519156\, dedicated to the voluntary service of persons with hemophilia\, von Willebrand disease (vWD) and/or other genetic bleeding disorders.
LOCATION:Saratoga Performing Arts Center
UID:e.2254.4853
SEQUENCE:3
DTSTAMP:20260423T170736Z
URL:https://chamber.saratoga.org/events/details/hemophilia-walk-run-05-09-2015-4853
END:VEVENT

END:VCALENDAR
