BEGIN:VCALENDAR
VERSION:2.0
PRODID:-//ChamberMaster//Event Calendar 2.0//EN
METHOD:PUBLISH
X-PUBLISHED-TTL:P3D
REFRESH-INTERVAL:P3D
CALSCALE:GREGORIAN
BEGIN:VEVENT
DTSTART:20150801T120000Z
DTEND:20150831T190000Z
X-MICROSOFT-CDO-ALLDAYEVENT:FALSE
SUMMARY:Hemmings Sports & Exotic 10th Annual Car Show
DESCRIPTION:Hemmings Sports & Exotic Car magazine\, a publication of Hemmings Motor News\, invites you and your club members to join us for our 10th Annual Hemmings Sports & Exotic Car Show\, Saturday\, August 1\, 2015 at the beautiful Saratoga Automobile Museum in Saratoga Springs\, New York. Trophies will be awarded in five special classes: Lotus (all years)\; Lancia (all years)\; BMW M-series (all years)\; Microcars (all years) and Driveable Dreams (pre-1991). Trophies will also be awarded in the pre-1991 British\, French\, German\, Italian\, Swedish\, Japanese and European car classes\, as well as in the late-model exotic cars from 1991 to the present day. All sports cars\, GTs and exotics built outside the United States are welcome. There will be a display-only area for those cars that do not qualify for one of the judged classes listed above. The first 300 entrants will receive a free commemorative magnet. There will be plenty of opportunity to meet the staff of Hemmings. Coverage of the event is always featured in Hemmings Sports & Exotic Car magazine\, and many award-winning cars have gone on to be featured in the pages of our publications as well.
X-ALT-DESC;FMTTYPE=text/html:Hemmings Sports &amp\; Exotic Car magazine\, a publication of Hemmings Motor News\, invites you and your club members to join us for our 10th Annual Hemmings Sports &amp\; Exotic Car Show\, Saturday\, August 1\, 2015 at the beautiful Saratoga Automobile Museum in Saratoga Springs\, New York. Trophies will be awarded in five special classes: Lotus (all years)\; Lancia (all years)\; BMW M-series (all years)\; Microcars (all years) and Driveable Dreams (pre-1991). Trophies will also be awarded in the pre-1991 British\, French\, German\, Italian\, Swedish\, Japanese and European car classes\, as well as in the late-model exotic cars from 1991 to the present day. All sports cars\, GTs and exotics built outside the United States are welcome. There will be a display-only area for those cars that do not qualify for one of the judged classes listed above. The first 300 entrants will receive a free commemorative magnet. There will be plenty of opportunity to meet the staff of Hemmings. Coverage of the event is always featured in Hemmings Sports &amp\; Exotic Car magazine\, and many award-winning cars have gone on to be featured in the pages of our publications as well.
LOCATION:Saratoga Automobile Museum\, 110 Avenue of the Pines\, Saratoga Springs\, NY
UID:e.2254.7668
SEQUENCE:3
DTSTAMP:20260423T024048Z
URL:https://chamber.saratoga.org/events/details/hemmings-sports-exotic-10th-annual-car-show-08-01-2015-7668
END:VEVENT

END:VCALENDAR
