BEGIN:VCALENDAR
VERSION:2.0
PRODID:-//ChamberMaster//Event Calendar 2.0//EN
METHOD:PUBLISH
X-PUBLISHED-TTL:P3D
REFRESH-INTERVAL:P3D
CALSCALE:GREGORIAN
BEGIN:VEVENT
DTSTART:20160923T130000Z
DTEND:20160925T190000Z
X-MICROSOFT-CDO-ALLDAYEVENT:FALSE
SUMMARY:Hemmings 10th Annual Concours d'Elegance
DESCRIPTION:FRIDAY\, SEPTEMBER 23\, 2016\, OPENING EVENT AND RALLY 9:00 a.m.  4:00 p.m. Registration at the Saratoga Automobile Museum\, 110 Avenue of the Pines\, Saratoga Springs\, NY. At 12:00 noon\, begin this historic weekend by joining our staff in the Hemmings Rally through the beautiful Adirondack Region. 2:00 p.m. to 4:00 p.m. Cruise scenic Lake George\, Queen of the American Lakes\, aboard the Adirondack Shoreline Cruise w/luncheon buffet. Deadline to purchase dinner tickets: 9/2/16. SATURDAY\, SEPTEMBER 24\, 2016\, CRUISE-IN SPECTACULAR Gates open at 8:00 a.m. Awards at 2:00 p.m. An all makes car show that's open to cars\, trucks and motorcycles. Including: muscle cars\, street rods sports\, exotics and classics. Cocktail reception with cash bar at 6:00 p.m. and dinner available at 7:00 p.m. at the Courtyard Marriott. Keynote speaker and Honorary Chairman: Lee Holman\, President of Holman & Moody. Deadline to purchase dinner tickets: 9/2/16. SUNDAY\, SEPTEMBER 25\, 2016\, CONCOURS d'ELEGANCE 9:00 a.m. to 3:00 p.m. Open to concours-quality cars\, pre-1974 collector cars\, by invitation only. Cars welcome to show at the Sunday Concourse: All Full Classic  cars as recognized and listed by the Classic Car Club of America. Concourse featured Marques: Auburn/Cord/Duesenberg\; Triumph (all years)\; 1966-1978 Oldsmobile Toronado/Cadillac Eldorado\; 1955-1962 Tailfin Evolution\; 1968 1/2 ? 1971 Cobra Jet Ford\; Pre-1990 Military Vehicles. TO ENTER YOUR SHOW CAR IN THE SUNDAY CONCOURS: Submit photos to concours@hemmings
X-ALT-DESC;FMTTYPE=text/html:FRIDAY\, SEPTEMBER 23\, 2016\, OPENING EVENT AND RALLY 9:00 a.m. &nbsp\;4:00 p.m. Registration at the Saratoga Automobile Museum\, 110 Avenue of the Pines\, Saratoga Springs\, NY. At 12:00 noon\, begin this historic weekend by joining our staff in the Hemmings Rally through the beautiful Adirondack Region. 2:00 p.m. to 4:00 p.m. Cruise scenic Lake George\, Queen of the American Lakes\, aboard the Adirondack Shoreline Cruise w/luncheon buffet. Deadline to purchase dinner tickets: 9/2/16. SATURDAY\, SEPTEMBER 24\, 2016\, CRUISE-IN SPECTACULAR Gates open at 8:00 a.m. Awards at 2:00 p.m. An all makes car show that&#39\;s open to cars\, trucks and motorcycles. Including: muscle cars\, street rods sports\, exotics and classics. Cocktail reception with cash bar at 6:00 p.m. and dinner available at 7:00 p.m. at the Courtyard Marriott. Keynote speaker and Honorary Chairman: Lee Holman\, President of Holman &amp\; Moody. Deadline to purchase dinner tickets: 9/2/16. SUNDAY\, SEPTEMBER 25\, 2016\, CONCOURS d&#39\;ELEGANCE 9:00 a.m. to&nbsp\;3:00 p.m. Open to concours-quality cars\, pre-1974 collector cars\, by invitation only. Cars welcome to show at the Sunday Concourse: All Full Classic&reg\; cars as recognized and listed by the Classic Car Club of America. Concourse featured Marques: Auburn/Cord/Duesenberg\; Triumph (all years)\; 1966-1978 Oldsmobile Toronado/Cadillac Eldorado\; 1955-1962 Tailfin Evolution\; 1968 1/2 ? 1971 Cobra Jet Ford\; Pre-1990 Military Vehicles. TO ENTER YOUR SHOW CAR IN THE SUNDAY CONCOURS: Submit photos to concours@hemmings
LOCATION:Saratoga Automobile Museum\, 110 Avenue of the Pines\, Saratoga Springs\, NY 12866
UID:e.2254.16081
SEQUENCE:3
DTSTAMP:20260420T231846Z
URL:https://chamber.saratoga.org/events/details/hemmings-10th-annual-concours-d-elegance-09-23-2016-16081
END:VEVENT

END:VCALENDAR
