BEGIN:VCALENDAR
VERSION:2.0
PRODID:-//ChamberMaster//Event Calendar 2.0//EN
METHOD:PUBLISH
X-PUBLISHED-TTL:P3D
REFRESH-INTERVAL:P3D
CALSCALE:GREGORIAN
BEGIN:VEVENT
DTSTART;VALUE=DATE:20180705
DTEND;VALUE=DATE:20180707
TRANSP:TRANSPARENT
X-MICROSOFT-CDO-ALLDAYEVENT:TRUE
SUMMARY:Help us encourage Triple Crown Winner Justify to JUST come to Saratoga this Summer
DESCRIPTION:Help us encourage Triple Crown Winner Justify to JUST come to Saratoga this Summer\n\n \n\nLike we did three years ago with #pharoahtoga\, we have joined forces with our talented and creative friends at Fingerpaint Marketing to develop a NEW campaign to encourage the owners and trainers of Justify to bring this Triple Crown Winning horse to Saratoga for the Travers\, on August 25th. Next THURSDAY\, July 12th\, at our Summer Mixer at Gaffney's\, we will unveil this fun new campaign with a new website\, video\, hashtag\, signs and t-shirts. You can help us make some noise to get this done today.\n\n	Sign up to attend the mixer. Invite friends and co-workers. Let's have a big crowd on hand to send a loud message to Justify's owners and trainer that Saratoga is JUST the right place for this amazing horse to run.\n	Pre-order one of our "campaign" t-shirts\, provided by Impressions of Saratoga. We can't show them to you yet because that would give up our secret campaign name so JUST trust us when we say it is creative and fun. We need the orders by 11:59 a.m. tomorrow\, Friday\, July 6th. Orders made that time are at a special price - - JUST $13 as Justify is the 13th winner of the Triple Crown. Besides yourself\, get some at this price to share with your employees and coworkers. We will hand out pre-orders at the mixer. We will be asking people to wear these shirts on Friday\, the 13th. JUST join this campaign and click on this link to get your t-shirts now!
X-ALT-DESC;FMTTYPE=text/html:Help us encourage Triple Crown Winner Justify to JUST come to Saratoga this Summer<br />\n&nbsp\;<br />\nLike we did three years ago with #pharoahtoga\, we have joined forces with our talented and creative friends at Fingerpaint Marketing to develop a NEW campaign to encourage the owners and trainers of Justify to bring this Triple Crown Winning horse to Saratoga for the Travers\, on August 25<sup>th</sup>. Next THURSDAY\, July 12<sup>th</sup>\, at our Summer Mixer at Gaffney&rsquo\;s\, we will unveil this fun new campaign with a new website\, video\, hashtag\, signs and t-shirts. You can help us make some noise to get this done today.\n<ol>\n	<li style="margin-left:0in\;">Sign up to attend the mixer. Invite friends and co-workers. Let&rsquo\;s have a big crowd on hand to send a loud message to Justify&rsquo\;s owners and trainer that Saratoga is JUST the right place for this amazing horse to run.</li>\n	<li style="margin-left:0in\;">Pre-order one of our &ldquo\;campaign&rdquo\; t-shirts\, provided by Impressions of Saratoga. We can&rsquo\;t show them to you yet because that would give up our secret campaign name so JUST trust us when we say it is creative and fun. We need the orders by 11:59 a.m. tomorrow\, Friday\, July 6<sup>th</sup>. Orders made that time are at a special price - - JUST $13 as Justify is the 13<sup>th</sup> winner of the Triple Crown. Besides yourself\, get some at this price to share with your employees and&nbsp\;coworkers. We will hand out pre-orders at the mixer. We will be asking people to wear these shirts on Friday\, the 13<sup>th</sup>. JUST join this campaign and click on this link to get your t-shirts now!</li>\n</ol>\n
LOCATION:
UID:e.2254.36233
SEQUENCE:3
DTSTAMP:20260423T231450Z
URL:https://chamber.saratoga.org/events/details/help-us-encourage-triple-crown-winner-justify-to-just-come-to-saratoga-this-summer-36233
END:VEVENT

END:VCALENDAR
