BEGIN:VCALENDAR
VERSION:2.0
PRODID:-//ChamberMaster//Event Calendar 2.0//EN
METHOD:PUBLISH
X-PUBLISHED-TTL:P3D
REFRESH-INTERVAL:P3D
CALSCALE:GREGORIAN
BEGIN:VEVENT
DTSTART:20150415T160000Z
DTEND:20150415T233000Z
X-MICROSOFT-CDO-ALLDAYEVENT:FALSE
SUMMARY:Heart Disease: Reduce Your Risk
DESCRIPTION:Heart Disease is the leading cause of death in the United States and is the most preventable. Learn how simple lifestyle changes can improve your heart health and decrease your risk of heart disease. Topics to be addressed include: the different types of heart disease\, risk factors\, and steps to reduce the risk of acquiring heart disease.
X-ALT-DESC;FMTTYPE=text/html:Heart Disease is the leading cause of death in the United States and is the most preventable. Learn how simple lifestyle changes can improve your heart health and decrease your risk of heart disease. Topics to be addressed include: the different types of heart disease\, risk factors\, and steps to reduce the risk of acquiring heart disease.
LOCATION:59D Myrtle Street Saratoga Springs
UID:e.2254.7657
SEQUENCE:3
DTSTAMP:20260423T195956Z
URL:https://chamber.saratoga.org/events/details/heart-disease-reduce-your-risk-04-15-2015-7657
END:VEVENT

END:VCALENDAR
