BEGIN:VCALENDAR
VERSION:2.0
PRODID:-//ChamberMaster//Event Calendar 2.0//EN
METHOD:PUBLISH
X-PUBLISHED-TTL:P3D
REFRESH-INTERVAL:P3D
CALSCALE:GREGORIAN
BEGIN:VEVENT
DTSTART:20160603T153000Z
DTEND:20160603T170000Z
X-MICROSOFT-CDO-ALLDAYEVENT:FALSE
SUMMARY:#healthysaratoga Twin Bridges Walk
DESCRIPTION:The Saratoga County Chamber of Commerce\, along with sponsors The Adirondack Trust Company and BlueShield of Northeastern New York\, will kick off our Third Annual #healthysaratoga Employee Wellness Month Celebration with the #healthysaratoga Twin Bridges Walk.\n\nJoin your fellow Chamber members for lunch followed by networking on a one mile walk\, crossing city lines between Clifton Park and Halfmoon. Registration is just $5 and is capped at $50 for those looking to bring their entire office consisting of more than 10 people.
X-ALT-DESC;FMTTYPE=text/html:<p class="MsoNormal">The Saratoga County Chamber of Commerce\, along with sponsors The Adirondack Trust Company and BlueShield of Northeastern New York\, will kick off our Third Annual #healthysaratoga Employee Wellness Month Celebration with the #healthysaratoga Twin Bridges Walk.<o:p></o:p></p>\n\n<p class="MsoNormal">Join your fellow Chamber members for lunch followed by networking on a one mile walk\, crossing city lines between Clifton Park and Halfmoon. Registration is just $5 and is capped at $50 for those looking to bring their entire office consisting of more than 10 people.<o:p></o:p></p>\n&nbsp\;
LOCATION:Clifton Park/Halfmoon EMS 15 Crossing Boulevard Clifton Park
UID:e.2254.16462
SEQUENCE:3
DTSTAMP:20260421T081027Z
URL:https://chamber.saratoga.org/events/details/healthysaratoga-twin-bridges-walk-06-03-2016-16462
END:VEVENT

END:VCALENDAR
