BEGIN:VCALENDAR
VERSION:2.0
PRODID:-//ChamberMaster//Event Calendar 2.0//EN
METHOD:PUBLISH
X-PUBLISHED-TTL:P3D
REFRESH-INTERVAL:P3D
CALSCALE:GREGORIAN
BEGIN:VEVENT
DTSTART:20150605T153000Z
DTEND:20150605T170000Z
X-MICROSOFT-CDO-ALLDAYEVENT:FALSE
SUMMARY:#healthysaratoga Twin Bridges Lunchtime Employee Wellness Walk
DESCRIPTION:Local employers and their employees are invited to participate in this one-mile walk to help celebrate National Employee Wellness Month. The walk will go from the Clifton Park   Halfmoon EMS facility to Cracker Barrel and back. This location and route allows walkers to proceed at their own pace and to walk in both Clifton Park and Halfmoon. We will provide a light healthy lunch and snacks. In addition\, attendees will be entered in to win a health and wellness prize\, which includes: A one year membership to the Capital District YMCA (Clifton Park location)\, donated by the Southern Saratoga Regional YMCA\; wine basket\, provided by Captain Youth & Family Services and a gift basket\, provided by Saratoga National Bank & Trust Company. The cost to participate is $5 per person.
X-ALT-DESC;FMTTYPE=text/html:Local employers and their employees are invited to participate in this one-mile walk to help celebrate National Employee Wellness Month. The walk will go from the Clifton Park &ndash\; Halfmoon EMS facility to Cracker Barrel and back. This location and route allows walkers to proceed at their own pace and to walk in both Clifton Park and Halfmoon. We will provide a light healthy lunch and snacks. In addition\, attendees will be entered in to win a health and wellness prize\, which includes: A one year membership to the Capital District YMCA (Clifton Park location)\, donated by the Southern Saratoga Regional YMCA\; wine basket\, provided by Captain Youth &amp\; Family Services and a gift basket\, provided by Saratoga National Bank &amp\; Trust Company.&nbsp\;The cost to participate is $5 per person.&nbsp\;
LOCATION:Clifton Park Halfmoon EMS 15 Crossing Boulevard Clifton Park
UID:e.2254.7748
SEQUENCE:3
DTSTAMP:20260423T074205Z
URL:https://chamber.saratoga.org/events/details/healthysaratoga-twin-bridges-lunchtime-employee-wellness-walk-06-05-2015-7748
END:VEVENT

END:VCALENDAR
