BEGIN:VCALENDAR
VERSION:2.0
PRODID:-//ChamberMaster//Event Calendar 2.0//EN
METHOD:PUBLISH
X-PUBLISHED-TTL:P3D
REFRESH-INTERVAL:P3D
CALSCALE:GREGORIAN
BEGIN:VEVENT
DTSTART:20160614T210000Z
DTEND:20160614T230000Z
X-MICROSOFT-CDO-ALLDAYEVENT:FALSE
SUMMARY:#healthysaratoga Health & Wellness Mixer & Expo
DESCRIPTION:Back by popular demand\, the Saratoga County Chamber of Commerce\, along with sponsors The Adirondack Trust Company and BlueShield of Northeastern New York\, will host the Third Annual Health & Wellness Mixer & Expo at the Roosevelt Baths\, 39 Roosevelt Drive\, Saratoga Springs\, from 5:00 to 7:00 p.m.\n\n\n\nWhether you are a business in the health & wellness industry looking to display your products and services\, or a member looking to just come and network while enjoying food and drink\, this event is open for you! There is no additional charge to exhibit\, however\, please indicate on the registration page if you wish to have a spot.\n\n\n\n***Exhibit space is SOLD OUT.\n\n\n\n**Please note that exhibit space is available on a first come\, first serve basis. All exhibitors must provide their own table\, chairs\, and all other equipment needed to exhibit. The Saratoga County Chamber reserves the right to decide if a business fits in the health & wellness industry.
X-ALT-DESC;FMTTYPE=text/html:Back by popular demand\, the Saratoga County Chamber of Commerce\, along with sponsors The Adirondack Trust Company and BlueShield of Northeastern New York\, will host the Third Annual Health &amp\; Wellness Mixer &amp\; Expo at the Roosevelt Baths\, 39 Roosevelt Drive\, Saratoga Springs\, from 5:00 to 7:00 p.m.<br />\n<br />\nWhether you are a business in the health &amp\; wellness industry looking to display your products and services\, or a member looking to just come and network while enjoying food and drink\, this event is open for you! There is no additional charge to exhibit\, however\, please indicate on the registration page if you wish to have a spot.<br />\n<br />\n<strong>***Exhibit space is SOLD OUT.</strong><br />\n<br />\n**Please note that exhibit space is available on a first come\, first serve basis. All exhibitors must provide their own table\, chairs\, and all other equipment needed to exhibit. The Saratoga County Chamber reserves the right to decide if a business fits in the health &amp\; wellness industry.
LOCATION:Roosevelt Baths 39 Roosevelt Drive Saratoga Spring
UID:e.2254.16463
SEQUENCE:3
DTSTAMP:20260421T081205Z
URL:https://chamber.saratoga.org/events/details/healthysaratoga-health-wellness-mixer-expo-06-14-2016-16463
END:VEVENT

END:VCALENDAR
