BEGIN:VCALENDAR
VERSION:2.0
PRODID:-//ChamberMaster//Event Calendar 2.0//EN
METHOD:PUBLISH
X-PUBLISHED-TTL:P3D
REFRESH-INTERVAL:P3D
CALSCALE:GREGORIAN
BEGIN:VEVENT
DTSTART:20160621T113000Z
DTEND:20160621T130000Z
X-MICROSOFT-CDO-ALLDAYEVENT:FALSE
SUMMARY:#healthysaratoga Health & Wellness Breakfast
DESCRIPTION:As you may now know\, Saratoga County is the healthiest county in New York State! While that is a huge accomplishment for our community\, our sights are now set on moving up the ranks in the United States. At the Health & Wellness Breakfast\,Dr. Kirk Panneton\, Vice President\, Regional Executive and Medical Director\, from BlueShield of Northeastern New York\, will share the best practices of wellness in the workplace and how you can implement strategies to improve health and wellness in your office.
X-ALT-DESC;FMTTYPE=text/html:As you may now know\, Saratoga County is the healthiest county in New York State! While that is a huge accomplishment for our community\, our sights are now set on moving up the ranks in the United States. At the Health &amp\; Wellness Breakfast\,Dr. Kirk Panneton\, Vice President\, Regional Executive and Medical Director\,&nbsp\;from BlueShield of Northeastern New York\, will share the best practices of wellness in the workplace and how you can implement strategies to improve health and wellness in your office.
LOCATION:Embassy Suites 86 Congress Street Saratoga Springs
UID:e.2254.16464
SEQUENCE:3
DTSTAMP:20260421T081202Z
URL:https://chamber.saratoga.org/events/details/healthysaratoga-health-wellness-breakfast-06-21-2016-16464
END:VEVENT

END:VCALENDAR
