BEGIN:VCALENDAR
VERSION:2.0
PRODID:-//ChamberMaster//Event Calendar 2.0//EN
METHOD:PUBLISH
X-PUBLISHED-TTL:P3D
REFRESH-INTERVAL:P3D
CALSCALE:GREGORIAN
BEGIN:VEVENT
DTSTART:20150625T113000Z
DTEND:20150625T130000Z
X-MICROSOFT-CDO-ALLDAYEVENT:FALSE
SUMMARY:#healthysaratoga "Fourth" Thursday Breakfast
DESCRIPTION:The Saratoga County Chamber of Commerce\, along with Presenting Sponsor\, BlueShield of Northeastern New York\, will team up with Healthy Living Market & Cafe for the June Third Thursday Breakfast. Breakfast and registration will run from 7:30 to 8 a.m. and will be followed by the program from 8 to 9 a.m. During the program\, you will have the opportunity to visit various stations to learn more about ways to incorporate healthy practices into your everyday life. Thank you to BlueShield of Northeastern New York for sponsoring the #healthysaratoga initiative. \n\n\n\nHear From:\n\nDr. Adam Favro\, TurningPoint Chiropractic\, will discuss how to implement exercise in the workplace.\n\n\n\nAngela Amedio\, Saratoga Cycling Studio\, will discuss healthy snack options during the workday.\n\n\n\nMatt Zerr\, BlueShield of Northeastern New York\, will discuss how to implement a wellness plan in the workplace.\n\n\n\nKiya Mclntyre\, Healthy Living Market & Cafe\, will discuss healthy catering options at events.
X-ALT-DESC;FMTTYPE=text/html:<p>The Saratoga County Chamber of Commerce\, along with Presenting Sponsor\, BlueShield of Northeastern New York\, will team up with Healthy Living Market &amp\; Cafe for the June Third Thursday Breakfast. Breakfast and registration will run from 7:30 to 8 a.m. and will be followed by the program from 8 to 9 a.m. During the program\, you will have the opportunity to visit various stations to learn more about ways to incorporate healthy practices into your everyday life. Thank you to BlueShield of Northeastern New York for sponsoring the #healthysaratoga&nbsp\;initiative.&nbsp\;<br />\n<br />\nHear From:</p>\n\n<p style="margin:0in\;margin-bottom:.0001pt"><strong><span style="font-size:\n10.0pt\;font-family:&quot\;Arial&quot\;\,sans-serif\;color:black">Dr. Adam Favro\, <a alt="http://www.tpcwellness.com" href="http://r20.rs6.net/tn.jsp?f=001F9_2hr4eHW19QjDcoypv-Xv8QMDy3UMxbsJrsEuFXNq8rThgTDiFwNtHP5Or7d3b6aBHsj_QDCSZ6dOMU3uVO3kevmv56SuD0yvWo9NjrcmJwfRnYqelXqzDdvKdVLTV2KOH3LK3jM3m4JLWigIDZIuh3G-4DRoUMV6LbXPPL40=&amp\;c=r2wtZxfUzGw-ZcXeXjcVyWBNp94KMBAkiCvUNTmqsMU56CxReBvGUA==&amp\;ch=1vKDwcRbTz2Ut82g8CPM30tU3z2Mm6UXnS98Rrk9mn-e2CtXQmo9eQ==" linktype="1" shape="rect" target="_blank" track="on">TurningPoint Chiropractic</a>\, will discuss how to implement exercise in the workplace.</span></strong><span style="font-size:10.0pt\;font-family:&quot\;Arial&quot\;\,sans-serif\;color:black"><o:p></o:p></span></p>\n\n<p style="margin:0in\;margin-bottom:.0001pt"><br />\n<strong><span style="font-size:\n10.0pt\;font-family:&quot\;Arial&quot\;\,sans-serif\;color:black">Angela Amedio\, <a alt="http://www.saratogacyclingstudio.com" href="http://r20.rs6.net/tn.jsp?f=001F9_2hr4eHW19QjDcoypv-Xv8QMDy3UMxbsJrsEuFXNq8rThgTDiFwEbPiOEJ5Oc-E6uIy-c8Mrs2NtxQPjpnbjPDj5nXCzzx2Zl7Xjt0moCHz7AkZZiIEQtUfhL1Pgc_NrSUA51kzpeQXNunGMs_fbLBXjj4bH_at00TttlQSsfgZBLO937N48NL56-YDACb&amp\;c=r2wtZxfUzGw-ZcXeXjcVyWBNp94KMBAkiCvUNTmqsMU56CxReBvGUA==&amp\;ch=1vKDwcRbTz2Ut82g8CPM30tU3z2Mm6UXnS98Rrk9mn-e2CtXQmo9eQ==" linktype="1" shape="rect" target="_blank" track="on">Saratoga Cycling Studio</a>\,&nbsp\;will discuss healthy snack options during the workday.</span></strong><span style="font-size:10.0pt\;font-family:&quot\;Arial&quot\;\,sans-serif\;color:black"><o:p></o:p></span></p>\n\n<p style="margin:0in\;margin-bottom:.0001pt"><br />\n<strong><span style="font-size:\n10.0pt\;font-family:&quot\;Arial&quot\;\,sans-serif\;color:black">Matt Zerr\, <a alt="http://www.bsneny.com" href="http://r20.rs6.net/tn.jsp?f=001F9_2hr4eHW19QjDcoypv-Xv8QMDy3UMxbsJrsEuFXNq8rThgTDiFwI1DMNRGkZ-FGUUYvGpfe122Eye9HZHJVZyBvWClVAoJ5ah90wSnJJqY1yCv5sNvoNdkqEYBGFqJ8bZVq4cHO0uycSfPj9FuVaJrrb6tvNRkd2DyNWI5Tlc=&amp\;c=r2wtZxfUzGw-ZcXeXjcVyWBNp94KMBAkiCvUNTmqsMU56CxReBvGUA==&amp\;ch=1vKDwcRbTz2Ut82g8CPM30tU3z2Mm6UXnS98Rrk9mn-e2CtXQmo9eQ==" linktype="1" shape="rect" target="_blank" track="on">BlueShield of Northeastern New York</a>\, will discuss how to implement a wellness plan in the workplace.</span></strong><span style="font-size:10.0pt\;font-family:&quot\;Arial&quot\;\,sans-serif\;\ncolor:black"><o:p></o:p></span></p>\n\n<p style="margin:0in\;margin-bottom:.0001pt"><br />\n<strong><span style="font-size:\n10.0pt\;font-family:&quot\;Arial&quot\;\,sans-serif\;color:black">Kiya Mclntyre\, <a alt="http://www.healthylivingmarket.com/" href="http://r20.rs6.net/tn.jsp?f=001F9_2hr4eHW19QjDcoypv-Xv8QMDy3UMxbsJrsEuFXNq8rThgTDiFwOpouZ_4BpXf5dDUDPTpNuJrSJjsBIsAij3VB6ZuEHPvjcQybAdhTDfbi3TN2pV-xl5o5WyPQvqrzw4ptrvm_d0nr6_wl7Cgno3nApTvyeyaPCFXVxuM7DacrwEGaXmQb5GdRq5FMqBL&amp\;c=r2wtZxfUzGw-ZcXeXjcVyWBNp94KMBAkiCvUNTmqsMU56CxReBvGUA==&amp\;ch=1vKDwcRbTz2Ut82g8CPM30tU3z2Mm6UXnS98Rrk9mn-e2CtXQmo9eQ==" linktype="1" shape="rect" target="_blank" track="on">Healthy Living Market &amp\; Cafe</a>\, will discuss healthy catering options at events.</span></strong><span style="font-size:10.0pt\;font-family:&quot\;Arial&quot\;\,sans-serif\;color:black"><o:p></o:p></span></p>\n
LOCATION:Healthy Living Market & Cafe 3065 New York Route 50 Saratoga Springs
UID:e.2254.8366
SEQUENCE:3
DTSTAMP:20260423T073235Z
URL:https://chamber.saratoga.org/events/details/healthysaratoga-fourth-thursday-breakfast-06-25-2015-8366
END:VEVENT

END:VCALENDAR
