BEGIN:VCALENDAR
VERSION:2.0
PRODID:-//ChamberMaster//Event Calendar 2.0//EN
METHOD:PUBLISH
X-PUBLISHED-TTL:P3D
REFRESH-INTERVAL:P3D
CALSCALE:GREGORIAN
BEGIN:VEVENT
DTSTART:20160610T140000Z
DTEND:20160610T170000Z
X-MICROSOFT-CDO-ALLDAYEVENT:FALSE
SUMMARY:Health Screening Expo
DESCRIPTION:Free and open to the public! Get all of your screenings and testing under one roof at the "Senior Summer Sizzle". Live music by Tim Wechgelaer & Jeff Walton. Refreshments served. Balance risk assessment\, patient portal\, hearing screenings\, Eye screenings Blood pressure\, cholesterol\, glucose\, and more. Pneumonia and pneumonia booster shots by Wallgreens Brown Bag Medications - bring your meds and let the pharmacist review and discuss them with you. Office of the Aging Osteo Exercise Class Glens Falls Hospital Aroma Touch Hand Therapy by Patty Sponosored by United Health Care
X-ALT-DESC;FMTTYPE=text/html:Free and open to the public! Get all of your screenings and testing under one roof at the &quot\;Senior Summer Sizzle&quot\;. Live music by Tim Wechgelaer &amp\; Jeff Walton. Refreshments served. Balance risk assessment\, patient portal\, hearing screenings\, Eye screenings Blood pressure\, cholesterol\, glucose\, and more. Pneumonia and pneumonia booster shots by Wallgreens Brown Bag Medications - bring your meds and let the pharmacist review and discuss them with you. Office of the Aging Osteo Exercise Class Glens Falls Hospital Aroma Touch Hand Therapy by Patty Sponosored by United Health Care
LOCATION:Adult & Senior Center of Saratoga Springs 5 Williams St. Saratoga Springs\, NY 12866 Sar
UID:e.2254.16948
SEQUENCE:3
DTSTAMP:20260421T080613Z
URL:https://chamber.saratoga.org/events/details/health-screening-expo-06-10-2016-16948
END:VEVENT

END:VCALENDAR
