BEGIN:VCALENDAR
VERSION:2.0
PRODID:-//ChamberMaster//Event Calendar 2.0//EN
METHOD:PUBLISH
X-PUBLISHED-TTL:P3D
REFRESH-INTERVAL:P3D
CALSCALE:GREGORIAN
BEGIN:VEVENT
DTSTART:20140821T200000Z
DTEND:20140821T230000Z
X-MICROSOFT-CDO-ALLDAYEVENT:FALSE
SUMMARY:Health\, History and Horses Charity GALA - 08/21/2014
DESCRIPTION:Sponsored by Ladies of Charity\, Saratoga VicariateThis is our major fundraiser for the year to benefit Catholic Charities of Saratoga\, Warren and Washington Counties and other local non-profit groups.            Ladies of Charity           Health\, History and Horses               Charity GALA          support community charities  Thursday\, August 21\, 2014                          6:00-9:00pm           Longfellows Restaurant               Music\, Food\, Silent Auction\, Raffles              Reservations: $60.00\,    Make checks to: Ladies of Charity     Mail to: Carol Leone 19 Alydar Ct. Saratoga Springs\, NY 12866 on-line    www.ladiesofcharitysaratoga.com   Questions: Carol 584-7496\; Karen 584-7837
X-ALT-DESC;FMTTYPE=text/html:<p>Sponsored by Ladies of Charity\, Saratoga Vicariate</p><p>This is our major fundraiser for the year to benefit Catholic Charities of Saratoga\, Warren and Washington Counties and other local non-profit groups.</p><p>&nbsp\;<span style="font-size: 18pt\; line-height: 115%\; font-family: Freestyle Script\;"><span>&nbsp\;&nbsp\;&nbsp\;&nbsp\;&nbsp\;&nbsp\;&nbsp\;&nbsp\;&nbsp\;&nbsp\; </span><span></span></span><span style="font-size: 18pt\; line-height: 115%\; font-family: Verdana\,sans-serif\;">Ladies of Charity<span>&nbsp\;&nbsp\;&nbsp\;&nbsp\;&nbsp\;&nbsp\;&nbsp\;&nbsp\;&nbsp\; </span><span>&nbsp\;</span></span><strong><span style="font-size: 28pt\; line-height: 115%\; font-family: Verdana\,sans-serif\;">Health\, History and Horses&nbsp\; <span></span></span></strong><p><strong><span style="font-size: 28pt\; line-height: 115%\; font-family: Verdana\,sans-serif\;"><span>&nbsp\;</span><span>&nbsp\;&nbsp\;&nbsp\;&nbsp\;&nbsp\;&nbsp\;&nbsp\;&nbsp\;&nbsp\;&nbsp\;&nbsp\; </span>Charity GALA</span></strong></p> <p><strong><span style="font-size: 18pt\; line-height: 115%\; font-family: Verdana\,sans-serif\;"><span>&nbsp\; </span><span>&nbsp\;&nbsp\;&nbsp\;&nbsp\;&nbsp\;&nbsp\;</span></span></strong><span style="font-size: 18pt\; line-height: 115%\; font-family: Verdana\,sans-serif\;"><span>&nbsp\;</span></span><span style="font-size: 22pt\; line-height: 115%\; font-family: Verdana\,sans-serif\;">support community charities</span><a name="_GoBack"></a><span style="font-size: 18pt\; line-height: 115%\; font-family: Freestyle Script\;"><span>&nbsp\; </span></span><strong><span style="font-size: 26pt\; line-height: 115%\; font-family: Verdana\,sans-serif\;">Thursday\, August 21\, 2014 <span>&nbsp\;&nbsp\;&nbsp\;&nbsp\;&nbsp\;&nbsp\;&nbsp\;</span><span>&nbsp\;&nbsp\;</span></span></strong></p> <p><strong><span style="font-size: 26pt\; line-height: 115%\; font-family: Verdana\,sans-serif\;"><span>&nbsp\;&nbsp\;&nbsp\;&nbsp\;&nbsp\;&nbsp\;&nbsp\;&nbsp\;&nbsp\;&nbsp\;&nbsp\;&nbsp\;&nbsp\;&nbsp\; </span>6:00-9:00pm</span></strong></p> <p><span style="font-size: 18pt\; line-height: 115%\; font-family: Verdana\,sans-serif\;"><span>&nbsp\;&nbsp\;&nbsp\;&nbsp\;&nbsp\;&nbsp\;&nbsp\; </span><span>&nbsp\;&nbsp\;</span></span><span style="font-size: 24pt\; line-height: 115%\; font-family: Verdana\,sans-serif\;">Longfellows Restaurant</span><strong><span style="font-size: 18pt\; line-height: 115%\; font-family: Verdana\,sans-serif\;"><span>&nbsp\;&nbsp\;&nbsp\;&nbsp\;&nbsp\;&nbsp\; </span></span></strong></p> <p><strong><span style="font-size: 18pt\; line-height: 115%\; font-family: Verdana\,sans-serif\;"><span>&nbsp\;&nbsp\;&nbsp\;&nbsp\; </span><span>&nbsp\;&nbsp\;</span></span></strong><span style="font-size: 18pt\; line-height: 115%\; font-family: Verdana\,sans-serif\;">Music\, Food\, Silent Auction\, Raffles</span> </p> <p><span style="font-size: 18pt\; line-height: 115%\; font-family: Verdana\,sans-serif\;"><span>&nbsp\;&nbsp\;&nbsp\;&nbsp\; </span><span>&nbsp\;&nbsp\;&nbsp\;&nbsp\;&nbsp\;&nbsp\;&nbsp\;</span>Reservations: $60.00\,<span>&nbsp\; </span></span></p> <p><span style="font-size: 18pt\; line-height: 115%\; font-family: Verdana\,sans-serif\;"><span>&nbsp\;</span>Make checks to: Ladies of Charity<span>&nbsp\;&nbsp\;&nbsp\; </span></span></p> <p><span style="font-size: 22pt\; line-height: 115%\; font-family: Verdana\,sans-serif\;">Mail to: Carol Leone 19 Alydar Ct. Saratoga Springs\, NY 12866</span></p> <p><span style="font-size: 18pt\; line-height: 115%\; font-family: Verdana\,sans-serif\;">on-line<span>&nbsp\;&nbsp\;&nbsp\; </span></span><span style="font-size: 22pt\; line-height: 115%\; font-family: Verdana\,sans-serif\;"><a href="http://www.ladiesofcharitysaratoga.com"><span style="color: windowtext\;">www.ladiesofcharitysaratoga.com</span></a></span></p> <p><span style="font-size: 22pt\; line-height: 115%\; font-family: Verdana\,sans-serif\;">&nbsp\;</span></p> <p><span style="font-size: 18pt\; line-height: 115%\; font-family: Verdana\,sans-serif\;">Questions: Carol 584-7496\; Karen 584-7837</span> </p></p>
LOCATION:Longfellows Restaurant
UID:e.2254.1943
SEQUENCE:3
DTSTAMP:20260424T160111Z
URL:https://chamber.saratoga.org/events/details/health-history-and-horses-charity-gala-08-21-2014-08-21-2014-1943
END:VEVENT

END:VCALENDAR
