BEGIN:VCALENDAR
VERSION:2.0
PRODID:-//ChamberMaster//Event Calendar 2.0//EN
METHOD:PUBLISH
X-PUBLISHED-TTL:P3D
REFRESH-INTERVAL:P3D
CALSCALE:GREGORIAN
BEGIN:VEVENT
DTSTART:20150618T210000Z
DTEND:20150618T230000Z
X-MICROSOFT-CDO-ALLDAYEVENT:FALSE
SUMMARY:Health and Wellness Mixer & Expo
DESCRIPTION:Saratoga County Chamber of Commerce members will gather for our 2nd Annual #healthysaratoga Health and Wellness Mixer & Expo. In an effort to make Saratoga County the healthiest place to live\, work and play\,\n\nyou are invited to bring your staff for a fun networking and educational event. Along with food and drinks\, there will be an expo featuring Chamber businesses that provide services and products in the fields of health and wellness will be featured at this mixer.\n\n\n\nDrink specials and healthy hors d'oeuvres will be provided by the Gideon Putnam Hotel. Sponsored by Blue Shield of Northeastern New York\, the networking at this mixer will be expanded as we will have 50+ members of the Chamber's Health & Wellness Council exhibiting on the porch area of the Roosevelt Baths building. \n\n \n\nThis event is back by popular demand for a second year. Dress for this networking mixer is casual. We want everyone to feel comfortable making connections\, having a drink and enjoying hors d'oeuvres\, sharing information and learning about the many health and wellness related organizations in Saratoga County. \n\n\n\n\n\n***Exhibit space is sold out. If you would like to be added to the waiting list\, please contact Keith VanVeghten.
X-ALT-DESC;FMTTYPE=text/html:<p>Saratoga County Chamber of Commerce members will gather for our 2nd Annual #healthysaratoga Health and Wellness Mixer &amp\; Expo. In an effort to make Saratoga&nbsp\;County the healthiest place to live\, work and play\,<br />\nyou are invited to bring your staff for a fun&nbsp\;networking and educational event. Along with food and drinks\, there will be an expo&nbsp\;featuring Chamber businesses that provide&nbsp\;services and products in the fields of health and&nbsp\;wellness will be featured at this mixer.</p>\n\n<p><br />\n<span style="color:black\;"><span style="font-family:arial\,sans-serif\;"><span style="font-size:10.0pt\;">Drink specials and healthy hors d&#39\;oeuvres will be provided by the Gideon Putnam Hotel. Sponsored by Blue Shield of Northeastern New York\, the networking at this mixer will be expanded as we will have 50+ members of the Chamber&#39\;s Health &amp\; Wellness Council exhibiting on the porch area of the Roosevelt Baths building.&nbsp\;</span></span></span><br />\n&nbsp\;<br />\n<span style="color:black\;"><span style="font-family:arial\,sans-serif\;"><span style="font-size:10.0pt\;">This event is back by popular demand for a second year. Dress for this networking mixer is casual. We want everyone to feel comfortable making connections\, having a drink and enjoying hors d&#39\;oeuvres\, sharing information and learning about the many health and wellness related organizations in Saratoga County.&nbsp\;</span></span></span><br />\n<br />\n<br />\n<em><strong>***Exhibit space is sold out. If you would like to be added to the waiting list\, please contact <a href="mailto:kvanveghten@saratoga.org?subject=Please%20add%20me%20to%20Health%20and%20Wellness%20Expo%20%26%20Mixer%20Wait%20List">Keith VanVeghten</a>.</strong></em></p>\n
LOCATION:Roosevelt Baths 39 Roosevelt Drive Saratoga Springs
UID:e.2254.8364
SEQUENCE:3
DTSTAMP:20260423T073953Z
URL:https://chamber.saratoga.org/events/details/health-and-wellness-mixer-expo-06-18-2015-8364
END:VEVENT

END:VCALENDAR
