BEGIN:VCALENDAR
VERSION:2.0
PRODID:-//ChamberMaster//Event Calendar 2.0//EN
METHOD:PUBLISH
X-PUBLISHED-TTL:P3D
REFRESH-INTERVAL:P3D
CALSCALE:GREGORIAN
BEGIN:VEVENT
DTSTART:20150727T220000Z
DTEND:20150728T010000Z
X-MICROSOFT-CDO-ALLDAYEVENT:FALSE
SUMMARY:Hay\, Oats & Spaghetti - Italian Banquet to benefit Thoroughbred Retirement Foundation
DESCRIPTION:The enormous success of "Hay\, Oats & Spaghetti\," a Thoroughbred Retirement Foundation fundraiser hosted by Giuseppe and Lauren Grisio owners of Mama Mia's of Saratoga Springs\, NY\, figures to be bigger than ever for its third anniversary on Monday\, July 27   the first Monday of the Saratoga Thoroughbred racing season. Building off the huge success from last year\, including complimentary remarks during the event from Mayor Yepsen and Congressman Paul Tonko\, this year the event will be moving to a larger venue to accommodate more guests (upwards of 200) and will kick off the beginning of the racing meet by welcoming the horse industry back to Saratoga.
X-ALT-DESC;FMTTYPE=text/html:<span style="font-size: 10pt\;">The enormous success of &ldquo\;Hay\, Oats &amp\; Spaghetti\,&rdquo\; a Thoroughbred Retirement Foundation fundraiser hosted by Giuseppe and Lauren&nbsp\;Grisio owners of Mama Mia&#39\;s of Saratoga Springs\, NY\, figures to be bigger than ever for its <strong>third anniversary</strong> on Monday\, July 27 &ndash\; the first Monday of the Saratoga Thoroughbred racing season. Building off the huge success from last year\, including complimentary remarks during the event from Mayor Yepsen and Congressman Paul Tonko\, this year the event will be moving to a larger venue to accommodate more guests (upwards of 200) and will kick off the beginning of the racing meet by welcoming the horse industry back to Saratoga. &nbsp\;</span><br />\n&nbsp\;
LOCATION:Bravo! 3246 South Broadway\, Saratoga Springs\, NY (formerly 'Jack Dillons')
UID:e.2254.9589
SEQUENCE:3
DTSTAMP:20260423T041526Z
URL:https://chamber.saratoga.org/events/details/hay-oats-spaghetti-italian-banquet-to-benefit-thoroughbred-retirement-foundation-07-27-2015-9589
END:VEVENT

END:VCALENDAR
