BEGIN:VCALENDAR
VERSION:2.0
PRODID:-//ChamberMaster//Event Calendar 2.0//EN
METHOD:PUBLISH
X-PUBLISHED-TTL:P3D
REFRESH-INTERVAL:P3D
CALSCALE:GREGORIAN
BEGIN:VEVENT
DTSTART:20160725T220000Z
DTEND:20160726T010000Z
X-MICROSOFT-CDO-ALLDAYEVENT:FALSE
SUMMARY:Hay\, Oats & Spaghetti
DESCRIPTION:4th Annual Hay\, Oats & Spaghetti on the first Monday of the Saratoga Thoroughbred racing season. Join us as we kick off the beginning of the racing meet by welcoming the horse industry back to Saratoga. Beer and wine included along with a hearty Italian buffet specially prepared by Lauren and Giuseppe Grisio\, owners of Mama Mia's Restaurant. New for 2016: reserved seating. For tickets and more information: http://www.trfinc.org/event/hayoats
X-ALT-DESC;FMTTYPE=text/html:4th Annual Hay\, Oats &amp\; Spaghetti on the first Monday of the Saratoga Thoroughbred racing season. Join us as we kick off the beginning of the racing meet by welcoming the horse industry back to Saratoga. Beer and wine included along with a hearty Italian buffet specially prepared by Lauren and Giuseppe Grisio\, owners of Mama Mia&#39\;s Restaurant. New for 2016: reserved seating. For tickets and more information: http://www.trfinc.org/event/hayoats
LOCATION:Bravo! 3246 South Broadway Saratoga Springs\, NY 12866
UID:e.2254.16676
SEQUENCE:3
DTSTAMP:20260421T080349Z
URL:https://chamber.saratoga.org/events/details/hay-oats-spaghetti-07-25-2016-16676
END:VEVENT

END:VCALENDAR
