BEGIN:VCALENDAR
VERSION:2.0
PRODID:-//ChamberMaster//Event Calendar 2.0//EN
METHOD:PUBLISH
X-PUBLISHED-TTL:P3D
REFRESH-INTERVAL:P3D
CALSCALE:GREGORIAN
BEGIN:VEVENT
DTSTART:20140721T200000Z
DTEND:20140721T230000Z
X-MICROSOFT-CDO-ALLDAYEVENT:FALSE
SUMMARY:Hay Oats and Spaghetti - 07/21/2014
DESCRIPTION:casual dinner and cocktail with friends celebrating 31 years of the TRFThe Thoroughbred Retirement Foundation invites you to join us for an evening at Mama Mia’s Pizza and Café for a casual dinner & cocktails with friends to celebrate 31 years of saving racehorses.\nJuly 21\, 2014\nBuffet Served from 6– 9 p.m.\nTickets $75\nFor tickets and more info call 518-226-0028\nor visit www.trfinc.org/mamamias
X-ALT-DESC;FMTTYPE=text/html:<p>casual dinner and cocktail with friends celebrating 31 years of the TRF</p>The Thoroughbred Retirement Foundation invites you to join us for an evening at Mama Mia’s Pizza and Café for a casual dinner &amp\; cocktails with friends to celebrate 31 years of saving racehorses.<br>July 21\, 2014<br>Buffet Served from 6– 9 p.m.<br>Tickets $75<br>For tickets and more info call 518-226-0028<br>or visit <a href="http://www.trfinc.org/mamamias">www.trfinc.org/mamamias</a>
LOCATION:Mama Mia's Pizza and Cafe
UID:e.2254.3256
SEQUENCE:3
DTSTAMP:20260424T204900Z
URL:https://chamber.saratoga.org/events/details/hay-oats-and-spaghetti-07-21-2014-07-21-2014-3256
END:VEVENT

END:VCALENDAR
