BEGIN:VCALENDAR
VERSION:2.0
PRODID:-//ChamberMaster//Event Calendar 2.0//EN
METHOD:PUBLISH
X-PUBLISHED-TTL:P3D
REFRESH-INTERVAL:P3D
CALSCALE:GREGORIAN
BEGIN:VEVENT
DTSTART:20161002T200000Z
DTEND:20161002T230000Z
X-MICROSOFT-CDO-ALLDAYEVENT:FALSE
SUMMARY:Harvest for the Future Fundraising & Dinner event on The Pitney Farm
DESCRIPTION:We will have our final big event under the tent right on the historic Pitney Farm in Saratoga Springs. Our totally volunteer leadership team is working hard to make this whole project happen and you can come hear all about our great progress in reaching our goals. You have an extraordinary opportunity to help create a community space with a working farm that has survived time and the pressures of development. The Pitney's dedication to farming\, land stewardship\, their persistence in preservation of our agricultural heritage are nothing short of a miracle. We have a big job ahead of us let's continue the stewardship of this 150 plus year old farm and to create a community project for the next 100 years. Please come support us in this wonderful fundraising event and be part of this great project.\n\nKim Klopstock of Lily and the Rose Catering will be serving an amazing farm to table full course dinner\, with donations of product from a multitude of generous local farmers. There will be a full open bar with many local spirits as well. All types of food choices (vegetarian\, vegan\, + will be considered). Music will be performed by our well-known and loved Donna Britton. Salt and Char will also now be joining us with donated BBQ table featuring local grilled meats.\n\nWe have some very special announcements and this will be a memorable event for all! Let's enjoy the farmers' bounty of the fall harvests and support agriculture!\n\n\n\nWe are over 62% funded to purchase the historic farm -- Help us Make It Happen!
X-ALT-DESC;FMTTYPE=text/html:<p>We will have our final big event under the tent right on the historic Pitney Farm in Saratoga Springs. Our totally volunteer leadership team is working hard to make this whole project happen and you can come hear all about our great progress in reaching our goals. You have an extraordinary opportunity to help create a community space with a working farm that has survived time and the pressures of development. The Pitney&rsquo\;s dedication to farming\, land stewardship\, their persistence in preservation of our agricultural heritage are nothing short of a miracle. We have a big job ahead of us let&#39\;s continue the stewardship of this 150 plus year old farm and to create a community project for the next 100 years. Please come support us in this wonderful fundraising event and be part of this great project.</p>\n\n<p>Kim Klopstock of Lily and the Rose Catering will be serving an amazing farm to table full course dinner\, with donations of product from a multitude of generous local farmers. There will be a full open bar with many local spirits as well. All types of food choices (vegetarian\, vegan\, + will be considered). Music will be performed by our well-known and loved Donna Britton.&nbsp\;<span style="font-size:16px"><span style="color:rgb(0\, 0\, 0)\; font-family:helvetica neue">Salt and Char will also now be joining us with donated BBQ table featuring local grilled meats.</span></span></p>\n\n<p>We have some very special announcements and this will be a memorable event for all! Let&rsquo\;s enjoy the farmers&rsquo\; bounty of the fall harvests and support agriculture!<br />\n<br />\n<span style="font-family:baskerville old face\,serif"><span style="font-size:20.0pt">We are over <strong>62% funded</strong> to purchase the historic farm -- Help us <strong><em>Make It Happen</em>!</strong></span></span></p>\n
LOCATION:Under the tent at The Pitney Farm 223 West Avenue Saratoga Springs\, NY\, 12866
UID:e.2254.19490
SEQUENCE:3
DTSTAMP:20260420T214645Z
URL:https://chamber.saratoga.org/events/details/harvest-for-the-future-fundraising-dinner-event-on-the-pitney-farm-19490
END:VEVENT

END:VCALENDAR
