BEGIN:VCALENDAR
VERSION:2.0
PRODID:-//ChamberMaster//Event Calendar 2.0//EN
METHOD:PUBLISH
X-PUBLISHED-TTL:P3D
REFRESH-INTERVAL:P3D
CALSCALE:GREGORIAN
BEGIN:VEVENT
DTSTART:20160910T140000Z
DTEND:20160910T203000Z
X-MICROSOFT-CDO-ALLDAYEVENT:FALSE
SUMMARY:Hand Papermaking with Robert Walp. #917-0917.
DESCRIPTION:The paper maker's craft is centuries old\, but the finest papers in the world are still made in much the same way. In this class you will learn to make sheets of gorgeous cotton rag paper to take home at the end of the workshop\, that can then be used for fine writing paper or to make a journal. There will be discussion about making paper at home\, incorporating native plant materials in handmade paper\, and samples of various handmade papers to look at. Learning from hands-on work and demonstrations\, you will gain a basic understanding of the hand papermaking process and knowledge that will enable you to explore other facets of papermaking as well\, such as native plants\, pulp painting\, paper sculpture\, and more. This class is appropriate for both beginners and experienced paper makers. Come and learn new skills or refine old skills.\n\n\nLOCATION:   This Adirondack Folk School class will be held at Chester Creek Press\, 29 Pine Knolls Road\, Chestertown\, NY 12817.\n\n\nNOTE:  This class will take place in the instructor's professional studio. A great chance to experience this work where it happens. Please bring a lunch with you.
X-ALT-DESC;FMTTYPE=text/html:<pre>\n<span style="font-size:12pt"><span style="font-family:arial\,sans-serif"><span style="color:black">The paper maker&rsquo\;s craft is centuries old\, but the finest papers in the world are still made in much the same way. In this class you will learn to make sheets of gorgeous cotton rag paper to take home at the end of the workshop\, that can then be used for fine writing paper or to make a journal. There will be discussion about making paper at home\, incorporating native plant materials in handmade paper\, and samples of various handmade papers to look at. Learning from hands-on work and demonstrations\, you will gain a basic understanding of the hand papermaking process and knowledge that will enable you to explore other facets of papermaking as well\, such as native plants\, pulp painting\, paper sculpture\, and more. This class is appropriate for both beginners and experienced paper makers. Come and learn new skills or refine old skills.</span></span></span></pre>\n\n<pre>\n<strong><span style="font-size:12pt"><span style="font-family:arial\,sans-serif"><span style="color:black">LOCATION:&nbsp\;&nbsp\; This Adirondack Folk School class will be held at Chester Creek Press\, 29 Pine Knolls Road\, Chestertown\, NY 12817.</span></span></span></strong></pre>\n\n<pre>\n<strong><span style="font-size:12pt"><span style="font-family:arial\,sans-serif"><span style="color:black">NOTE:&nbsp\; This class will take place in the instructor&#39\;s professional studio. A great chance to experience this work where it happens. Please bring a lunch with you.</span></span></span></strong></pre>\n
LOCATION:Chester Creek Press\, 29 Pine Knolls Road\, Chestertown\, NY 12817.
UID:e.2254.16416
SEQUENCE:3
DTSTAMP:20260420T231934Z
URL:https://chamber.saratoga.org/events/details/hand-papermaking-with-robert-walp-917-0917-09-10-2016-16416
END:VEVENT

END:VCALENDAR
