BEGIN:VCALENDAR
VERSION:2.0
PRODID:-//ChamberMaster//Event Calendar 2.0//EN
METHOD:PUBLISH
X-PUBLISHED-TTL:P3D
REFRESH-INTERVAL:P3D
CALSCALE:GREGORIAN
BEGIN:VEVENT
DTSTART:20160730T130000Z
DTEND:20160812T200000Z
X-MICROSOFT-CDO-ALLDAYEVENT:FALSE
SUMMARY:HAND PAINTED ADIRONDACK CHAIR RAFFLE
DESCRIPTION:These lovely hand-painted Adirondack chairs will be raffled off by the Adirondack Folk School.  There are various ways to purchase tickets:\n\n1-   Come to the school\n\n2-   Call the school\n\n\n	   Come to Visitor's Center on Canada Street in Lake George during 'AFS Week'\, August 6-12.  There will be a free weekly concert on Friday August 12 at Shepherd Park.  The drawing for the chairs is set to take place in the park that evening.  It is not necessary for the winners to be present.\n\n\n \n\nPrice:         $10 each \n\n \n\nChair #1   Birdhouse Chair \n\n                 Painted by Don Polunci\n\n \n\nChair #2   Camouflage with Ferns Chair  \n\n                  Painted by Roberta Games\n\n \n\nChair #3   Adirondack Blanket Chair with Bear Claws\n\n                  Painted by Roberta Games\n\n \n\nChair #4   Rockwell Falls Chair \n\n                  Painted by Sandy Collins\n\nNote:  The are no clouds on this chair.  What appear to be clouds are caused by the flash from the camera.
X-ALT-DESC;FMTTYPE=text/html:<p><br />\n<span style="font-family: arial\,sans-serif\;"><span style="font-size: 14pt\;">These lovely hand-painted Adirondack chairs will be raffled off by the Adirondack Folk School.&nbsp\; There are various ways to purchase tickets:</span></span><br />\n<span style="font-family: arial\,sans-serif\;"><span style="font-size: 14pt\;">1-&nbsp\;&nbsp\; </span></span><span style="font-family: arial\,sans-serif\;"><span style="font-size: 14pt\;">Come to the school</span></span><br />\n<span style="font-family: arial\,sans-serif\;"><span style="font-size: 14pt\;">2-&nbsp\;&nbsp\; </span></span><span style="font-family: arial\,sans-serif\;"><span style="font-size: 14pt\;">Call the school</span></span></p>\n\n<ol>\n	<li><span style="font-family: arial\,sans-serif\;"><span style="font-size: 14pt\;">&nbsp\;&nbsp\; </span></span><span style="font-family: arial\,sans-serif\;"><span style="font-size: 14pt\;">Come to Visitor&#39\;s Center on Canada Street in Lake George during &lsquo\;AFS Week&rsquo\;\, August 6-12.&nbsp\; There will be a free weekly concert on Friday August 12 at Shepherd Park.&nbsp\; The drawing for the chairs is set to take place in the park that evening.&nbsp\; It is not necessary for the winners to be present.</span></span></li>\n</ol>\n\n<p>&nbsp\;<br />\n<span style="font-family: arial\,sans-serif\;"><span style="font-size: 14pt\;">Price:&nbsp\; &nbsp\;&nbsp\;&nbsp\;&nbsp\;&nbsp\;&nbsp\; $10 each </span></span><br />\n&nbsp\;<br />\n<span style="font-family: arial\,sans-serif\;"><span style="font-size: 14pt\;">Chair #1 &ndash\; Birdhouse Chair </span></span><br />\n<span style="font-family: arial\,sans-serif\;"><span style="font-size: 14pt\;">&nbsp\;&nbsp\;&nbsp\;&nbsp\;&nbsp\;&nbsp\;&nbsp\;&nbsp\;&nbsp\;&nbsp\;&nbsp\;&nbsp\; &nbsp\;&nbsp\;&nbsp\;&nbsp\;Painted by Don Polunci</span></span><br />\n&nbsp\;<br />\n<span style="font-family: arial\,sans-serif\;"><span style="font-size: 14pt\;">Chair #2 &ndash\; Camouflage with Ferns Chair &nbsp\;</span></span><br />\n<span style="font-family: arial\,sans-serif\;"><span style="font-size: 14pt\;">&nbsp\;&nbsp\;&nbsp\;&nbsp\;&nbsp\;&nbsp\;&nbsp\;&nbsp\;&nbsp\;&nbsp\; &nbsp\;&nbsp\;&nbsp\;&nbsp\;&nbsp\;&nbsp\;&nbsp\;Painted by Roberta Games</span></span><br />\n&nbsp\;<br />\n<span style="font-family: arial\,sans-serif\;"><span style="font-size: 14pt\;">Chair #3 &ndash\; Adirondack Blanket Chair with Bear Claws</span></span><br />\n<span style="font-family: arial\,sans-serif\;"><span style="font-size: 14pt\;">&nbsp\;&nbsp\;&nbsp\;&nbsp\;&nbsp\; &nbsp\;&nbsp\;&nbsp\;&nbsp\;&nbsp\;&nbsp\;&nbsp\;&nbsp\;&nbsp\;&nbsp\;&nbsp\;&nbsp\;Painted by Roberta Games</span></span><br />\n&nbsp\;<br />\n<span style="font-family: arial\,sans-serif\;"><span style="font-size: 14pt\;">Chair #4 &ndash\; Rockwell Falls Chair </span></span><br />\n<span style="font-family: arial\,sans-serif\;"><span style="font-size: 14pt\;">&nbsp\;&nbsp\;&nbsp\;&nbsp\;&nbsp\;&nbsp\;&nbsp\;&nbsp\;&nbsp\;&nbsp\;&nbsp\;&nbsp\;&nbsp\;&nbsp\;&nbsp\;&nbsp\;&nbsp\; Painted by Sandy Collins</span></span><br />\n<span style="font-family: arial\,sans-serif\;"><span style="font-size: 14pt\;">Note:&nbsp\; The are no clouds on this chair.&nbsp\; What appear to be clouds are caused by the flash from the camera.</span></span><br />\n&nbsp\;</p>\n
LOCATION:The Adirondack Folk School 51 Main Street Lake Luzerne\, NY 12846
UID:e.2254.17316
SEQUENCE:3
DTSTAMP:20260421T020705Z
URL:https://chamber.saratoga.org/events/details/hand-painted-adirondack-chair-raffle-07-30-2016-17316
END:VEVENT

END:VCALENDAR
