BEGIN:VCALENDAR
VERSION:2.0
PRODID:-//ChamberMaster//Event Calendar 2.0//EN
METHOD:PUBLISH
X-PUBLISHED-TTL:P3D
REFRESH-INTERVAL:P3D
CALSCALE:GREGORIAN
BEGIN:VEVENT
DTSTART:20161028T220000Z
DTEND:20161029T020000Z
X-MICROSOFT-CDO-ALLDAYEVENT:FALSE
SUMMARY:Halloween Spooktacular
DESCRIPTION:It's time for our annual spooktacular! Our Halloween party is the event of the fall\, and this year is no different! Join us for our legendary costume competition\, beer specials\,tricks & treats! Don't miss it!
X-ALT-DESC;FMTTYPE=text/html:<span style="background-color:rgb(255\, 255\, 255)\; font-family:arial\,sans-serif\; font-size:12px">It&#39\;s time for our annual spooktacular! Our Halloween party is the event of the fall\, and this year is no different! Join us for our legendary costume competition\, beer specials\,tricks &amp\; treats! Don&#39\;t miss it! </span>
LOCATION:1036 State Route 9 Queensbury\, N.Y. 12801
UID:e.2254.20790
SEQUENCE:3
DTSTAMP:20260420T214331Z
URL:https://chamber.saratoga.org/events/details/halloween-spooktacular-20790
END:VEVENT

END:VCALENDAR
