BEGIN:VCALENDAR
VERSION:2.0
PRODID:-//ChamberMaster//Event Calendar 2.0//EN
METHOD:PUBLISH
X-PUBLISHED-TTL:P3D
REFRESH-INTERVAL:P3D
CALSCALE:GREGORIAN
BEGIN:VEVENT
DTSTART:20161022T203000Z
DTEND:20161023T130000Z
X-MICROSOFT-CDO-ALLDAYEVENT:FALSE
SUMMARY:Halloween Space Camp-In
DESCRIPTION:Have a Spook-tacular Night at miSci! Explore the museum with a spell-binding scavenger hunt\, encounter aliens with hourly Challenger Adventure missions\, learn about the things that go bump in the night in the planetarium\, and gasp at the mystical properties of dry ice. Dinner and Breakfast included. Space is infinite\, but registrations are limited. Children must be accompanied by adults. Register online by October 21st. bit.ly/miSciHallow. To register after online registration closes\, please call 518-382-7890 x237.
X-ALT-DESC;FMTTYPE=text/html:Have a Spook-tacular Night at miSci! Explore the museum with a spell-binding scavenger hunt\, encounter aliens with hourly Challenger Adventure missions\, learn about the things that go bump in the night in the planetarium\, and gasp at the mystical properties of dry ice. Dinner and Breakfast included. Space is infinite\, but registrations are limited. Children must be accompanied by adults. Register online by October 21st. bit.ly/miSciHallow. To register after online registration closes\, please call 518-382-7890 x237.
LOCATION:MiSci 15 Nott Terrace Heights Schenectady\, NY 12308
UID:e.2254.20798
SEQUENCE:3
DTSTAMP:20260420T213340Z
URL:https://chamber.saratoga.org/events/details/halloween-space-camp-in-20798
END:VEVENT

END:VCALENDAR
