BEGIN:VCALENDAR
VERSION:2.0
PRODID:-//ChamberMaster//Event Calendar 2.0//EN
METHOD:PUBLISH
X-PUBLISHED-TTL:P3D
REFRESH-INTERVAL:P3D
CALSCALE:GREGORIAN
BEGIN:VEVENT
DTSTART:20151030T210000Z
DTEND:20151031T120000Z
X-MICROSOFT-CDO-ALLDAYEVENT:FALSE
SUMMARY:Halloween Camp-In
DESCRIPTION:Experience a Halloween like you've never had before! Enjoy a special overnight at miSci! Spend a night at the museum\, sleep over at the science center! Discover glowing worms\, ghostly tornadoes & more! Enjoy a planetarium show\, dinner\, a costume parade\, scavenger hunt\, creepy activities\, spooky experiments\, and breakfast. One parent or guardian per family must spend the night. Registration and payment required. Call 518-382-7890 x 237. If you want to join the fun but don't want to spend the night\, you can! Just let us know when registering.
X-ALT-DESC;FMTTYPE=text/html:Experience a Halloween like you&#39\;ve never had before! Enjoy a special overnight at miSci! Spend a night at the museum\, sleep over at the science center! Discover glowing worms\, ghostly tornadoes &amp\; more! Enjoy a planetarium show\, dinner\, a costume parade\, scavenger hunt\, creepy activities\, spooky experiments\, and breakfast. One parent or guardian per family must spend the night. Registration and payment required. Call 518-382-7890 x 237. If you want to join the fun but don&#39\;t want to spend the night\, you can! Just let us know when registering.
LOCATION:miSci (museum of innovation and science) 15 Nott Terrace Heights\, Schenectady 12308
UID:e.2254.12353
SEQUENCE:3
DTSTAMP:20260422T130317Z
URL:https://chamber.saratoga.org/events/details/halloween-camp-in-10-30-2015-12353
END:VEVENT

END:VCALENDAR
