BEGIN:VCALENDAR
VERSION:2.0
PRODID:-//ChamberMaster//Event Calendar 2.0//EN
METHOD:PUBLISH
X-PUBLISHED-TTL:P3D
REFRESH-INTERVAL:P3D
CALSCALE:GREGORIAN
BEGIN:VEVENT
DTSTART:20140920T140000Z
DTEND:20140920T190000Z
X-MICROSOFT-CDO-ALLDAYEVENT:FALSE
SUMMARY:Halfmoon Parade and Fall Festival - 09/20/2014
DESCRIPTION:The parade steps off at 12:00PM from the intersection of Knox Blvd and Rt. 236 and will travel north on Rt. 236 to the Town Park.The parade steps off at 12:00PM from the intersection of Knox Blvd and Rt. 236 and will travel north on Rt. 236 to the Town Park. ROUTE 236 WILL BE CLOSED TO TRAFFIC DURING THE PARADE. Following the parade\, the festival will be held from 1:00PM   5:00PM. The festival will include demonstrations\, food and crafts vendors\, a dunk tank\, activities for all ages\, and a raffle for local charities. \n Immediately following the parade\, there will be a special memorial and dedication ceremony in honor of long time Town Board Member\, Water F. (Walt) Polak\, Jr. at the Clubhouse in the Park.
X-ALT-DESC;FMTTYPE=text/html:<p>The parade steps off at 12:00PM from the intersection of Knox Blvd and Rt. 236 and will travel north on Rt. 236 to the Town Park.</p><p>The parade steps off at 12:00PM from the intersection of Knox Blvd and Rt. 236 and will travel north on Rt. 236 to the Town Park. ROUTE 236 WILL BE CLOSED TO TRAFFIC DURING THE PARADE. Following the parade\, the festival will be held from 1:00PM &ndash\; 5:00PM. The festival will include demonstrations\, food and crafts vendors\, a dunk tank\, activities for all ages\, and a raffle for local charities.&nbsp\;</p>\n<p>&nbsp\;Immediately following the parade\, there will be a special memorial and dedication ceremony in honor of long time Town Board Member\, Water F. (Walt) Polak\, Jr. at the Clubhouse in the Park.</p>
LOCATION:Town of Halfmoon
UID:e.2254.2029
SEQUENCE:3
DTSTAMP:20260424T110848Z
URL:https://chamber.saratoga.org/events/details/halfmoon-parade-and-fall-festival-09-20-2014-09-20-2014-2029
END:VEVENT

END:VCALENDAR
