BEGIN:VCALENDAR
VERSION:2.0
PRODID:-//ChamberMaster//Event Calendar 2.0//EN
METHOD:PUBLISH
X-PUBLISHED-TTL:P3D
REFRESH-INTERVAL:P3D
CALSCALE:GREGORIAN
BEGIN:VEVENT
DTSTART:20160318T230000Z
DTEND:20160319T020000Z
X-MICROSOFT-CDO-ALLDAYEVENT:FALSE
SUMMARY:Hair of the Dog LIVE at The Saratoga Winery!
DESCRIPTION:The Saratoga Winery presents the internationally renowned Irish rock band\, HAIR OF THE DOG\, on Friday\, March 18\, 2016 from 7pm-10pm. The best High-Energy Irish Rock to party to for St. Patrick's Day weekend! Corned Beef & Cabbage Buffet\, Irish Beers\, Irish Cheese Boards and all your favorite handcrafted wines. $10 cover charge. Contact 518-584-9463. The Saratoga Winery & Tasting Room is located at 462 Route 29 West\, Saratoga Springs NY 12866. To book HAIR OF THE DOG\, contact Lisa Gandia at 518-844-5453 or lgandia@nycap.rr.com
X-ALT-DESC;FMTTYPE=text/html:The Saratoga Winery presents the internationally renowned Irish rock band\, HAIR OF THE DOG\, on Friday\, March 18\, 2016 from 7pm-10pm. The best High-Energy Irish Rock to party to for St. Patrick&#39\;s Day weekend! Corned Beef &amp\; Cabbage Buffet\, Irish Beers\, Irish Cheese Boards and all your favorite handcrafted wines. $10 cover charge. Contact 518-584-9463. The Saratoga Winery &amp\; Tasting Room is located at 462 Route 29 West\, Saratoga Springs NY 12866. To book HAIR OF THE DOG\, contact Lisa Gandia at 518-844-5453 or lgandia@nycap.rr.com
LOCATION:The Saratoga Winery & Tasting Room is located at 462 Route 29 West\, Saratoga Springs NY 12866.
UID:e.2254.14987
SEQUENCE:3
DTSTAMP:20260422T010448Z
URL:https://chamber.saratoga.org/events/details/hair-of-the-dog-live-at-the-saratoga-winery-03-18-2016-14987
END:VEVENT

END:VCALENDAR
