BEGIN:VCALENDAR
VERSION:2.0
PRODID:-//ChamberMaster//Event Calendar 2.0//EN
METHOD:PUBLISH
X-PUBLISHED-TTL:P3D
REFRESH-INTERVAL:P3D
CALSCALE:GREGORIAN
BEGIN:VEVENT
DTSTART:20140813T200000Z
DTEND:20140813T220000Z
X-MICROSOFT-CDO-ALLDAYEVENT:FALSE
SUMMARY:Guided Evening Bike Tours - 08/13/2014
DESCRIPTION:Bicycle Tours of Saratoga BattlefieldMeet at the visitor center flagpole for gentle rides along 5-mile sections of the park tour road and hear lesser-known stories from the past.  Please bring you bike\, water and insect repellant.  Helmets required.  Event cancelled if raining.
X-ALT-DESC;FMTTYPE=text/html:<p>Bicycle Tours of Saratoga Battlefield</p><p>Meet at the visitor center flagpole for gentle rides along 5-mile sections of the park tour road and hear lesser-known stories from the past.&nbsp\; Please bring you bike\, water and insect repellant.&nbsp\; <strong>Helmets required</strong>.&nbsp\; <em>Event cancelled if raining.</em></p>
LOCATION:Saratoga National Historical Park
UID:e.2254.3493
SEQUENCE:3
DTSTAMP:20260424T140232Z
URL:https://chamber.saratoga.org/events/details/guided-evening-bike-tours-08-13-2014-08-13-2014-3493
END:VEVENT

END:VCALENDAR
