BEGIN:VCALENDAR
VERSION:2.0
PRODID:-//ChamberMaster//Event Calendar 2.0//EN
METHOD:PUBLISH
X-PUBLISHED-TTL:P3D
REFRESH-INTERVAL:P3D
CALSCALE:GREGORIAN
BEGIN:VEVENT
DTSTART:20140716T200000Z
DTEND:20140716T220000Z
X-MICROSOFT-CDO-ALLDAYEVENT:FALSE
SUMMARY:Guided Evening Bike Tour - 07/16/2014
DESCRIPTION:Gentle rides along 5-mile sections of the park and lesser-known stories from the past.Gentle rides along 5-mile sections of the park and lesser-known stories from the past.  Please bring your bike\, water and insect repellant.  Helmets required.  Event cancelled if raining.
X-ALT-DESC;FMTTYPE=text/html:<p>Gentle rides along 5-mile sections of the park and lesser-known stories from the past.</p><span style="font-size: 10pt\; line-height: 115%\; font-family: 'Times New Roman'\, serif\;">Gentle rides along 5-mile sections of the park and lesser-known stories from the past.&nbsp\; Please bring your bike\, water and insect repellant.&nbsp\; <strong>Helmets required.</strong>&nbsp\; <em>Event cancelled if raining.</em></span><br>
LOCATION:Saratoga National Historical Park
UID:e.2254.2291
SEQUENCE:3
DTSTAMP:20260424T193008Z
URL:https://chamber.saratoga.org/events/details/guided-evening-bike-tour-07-16-2014-07-16-2014-2291
END:VEVENT

END:VCALENDAR
