BEGIN:VCALENDAR
VERSION:2.0
PRODID:-//ChamberMaster//Event Calendar 2.0//EN
METHOD:PUBLISH
X-PUBLISHED-TTL:P3D
REFRESH-INTERVAL:P3D
CALSCALE:GREGORIAN
BEGIN:VEVENT
DTSTART:20160923T213000Z
DTEND:20160924T003000Z
X-MICROSOFT-CDO-ALLDAYEVENT:FALSE
SUMMARY:Growers Welcome Picnic
DESCRIPTION:All registered Saratoga Giant Pumpkinfest growers\, their families\, and guests are invited to join us for a Growers Welcome Picnic.\n\n\n\nComplimentary BBQ\, salads\, and beverages will be served. Please register by Tuesday\, September 20th by 5:00 p.m.
X-ALT-DESC;FMTTYPE=text/html:All registered Saratoga Giant Pumpkinfest growers\, their families\, and guests are invited to join us for a Growers Welcome Picnic.<br />\n<br />\nComplimentary BBQ\, salads\, and beverages will be served. Please register by Tuesday\, September 20th by 5:00 p.m.
LOCATION:Sunnyside Gardens 345 Church Street Saratoga Springs
UID:e.2254.18590
SEQUENCE:3
DTSTAMP:20260421T021241Z
URL:https://chamber.saratoga.org/events/details/growers-welcome-picnic-09-23-2016-18590
END:VEVENT

END:VCALENDAR
