BEGIN:VCALENDAR
VERSION:2.0
PRODID:-//ChamberMaster//Event Calendar 2.0//EN
METHOD:PUBLISH
X-PUBLISHED-TTL:P3D
REFRESH-INTERVAL:P3D
CALSCALE:GREGORIAN
BEGIN:VEVENT
DTSTART:20150523T140000Z
DTEND:20150523T200000Z
X-MICROSOFT-CDO-ALLDAYEVENT:FALSE
SUMMARY:Grant Cottage Opens for 2015 season
DESCRIPTION:Grant Cottage\, a NYS Historic Site will open for the 2015 season. The Cottage is open from Memorial Day Weekend through Labor Day Weekend\, Wednesday - Sunday from 10:00 - 4:00. From Labor Day until Columbus Day\, weekends only
X-ALT-DESC;FMTTYPE=text/html:Grant Cottage\, a NYS Historic Site will open for the 2015 season. The Cottage is open from Memorial Day Weekend through Labor Day Weekend\, Wednesday - Sunday from 10:00 - 4:00. From Labor Day until Columbus Day\, weekends only
LOCATION:Top of Mt. McGregor in the town of Wilton\; I-87 (Adirondack Northway) Exit 16
UID:e.2254.8347
SEQUENCE:3
DTSTAMP:20260423T170827Z
URL:https://chamber.saratoga.org/events/details/grant-cottage-opens-for-2015-season-05-23-2015-8347
END:VEVENT

END:VCALENDAR
