BEGIN:VCALENDAR
VERSION:2.0
PRODID:-//ChamberMaster//Event Calendar 2.0//EN
METHOD:PUBLISH
X-PUBLISHED-TTL:P3D
REFRESH-INTERVAL:P3D
CALSCALE:GREGORIAN
BEGIN:VEVENT
DTSTART:20150819T170000Z
DTEND:20150819T190000Z
X-MICROSOFT-CDO-ALLDAYEVENT:FALSE
SUMMARY:GRANT AND HIS SARATOGA CONNECTIONS
DESCRIPTION:Join Gloria May and Melissa Trombley-Prosch at Grant Cottage to learn more about the Saratoga people and places connected to Grant's visits. This history is brought to life through pictures and stories\, presented by the Saratoga Springs Preservation Foundation in collaboration with the Friends of Grant Cottage.
X-ALT-DESC;FMTTYPE=text/html:Join Gloria May and Melissa Trombley-Prosch at Grant Cottage to learn more about the Saratoga people and places connected to Grant&#39\;s visits. This history is brought to life through pictures and stories\, presented by the Saratoga Springs Preservation Foundation in collaboration with the Friends of Grant Cottage.
LOCATION:Grant Cottage\, 28 Mt McGregor Rd\, Gansevoort\, NY 12831
UID:e.2254.9995
SEQUENCE:3
DTSTAMP:20260423T023937Z
URL:https://chamber.saratoga.org/events/details/grant-and-his-saratoga-connections-08-19-2015-9995
END:VEVENT

END:VCALENDAR
