BEGIN:VCALENDAR
VERSION:2.0
PRODID:-//ChamberMaster//Event Calendar 2.0//EN
METHOD:PUBLISH
X-PUBLISHED-TTL:P3D
REFRESH-INTERVAL:P3D
CALSCALE:GREGORIAN
BEGIN:VEVENT
DTSTART:20160504T150000Z
DTEND:20160504T170000Z
X-MICROSOFT-CDO-ALLDAYEVENT:FALSE
SUMMARY:Grand Opening of The Hamlet at Saratoga Springs
DESCRIPTION:On behalf of Prime Companies\, I cordially invite you to the grand opening of the Spa City's newest luxury apartment complex   The Hamlet at Saratoga Springs. We are excited to showcase this new development\, which will bring more residents within close proximity to the outstanding restaurants and shops that make up Saratoga Spring's nationally-recognized downtown. \n\n \n\nLocated adjacent to the Fresh Market Plaza\, The Hamlet at Saratoga Springs features 55 luxury units\, hotel amenities\, maintenance-free living\, indoor and covered parking\, private balconies\, common areas\, and 24/7 customer care. The conveniently-located complex is also within walking distance of downtown Saratoga Springs and Saratoga Race Course.\n\n \n\nThe grand opening will take place at The Hamlet at Saratoga Springs at 56 Marion Avenue on Wednesday\, May 4 at 11 a.m. The event begins inside the front entrance. The grand opening will be marked by a ribbon-cutting ceremony and a welcome speech. Tours of The Hamlet at Saratoga Springs will be available to guests. Light fare and hors d'oeuvres will be served.\n\n \n\nPlease RSVP by e-mail to Danielle Koonce\n\nat dkoonce@theprimecompanies.com\n\nno later than Monday\, May 2.\n\n \n\nThis exciting project has reached its completion and Prime Companies welcomes the opportunity to share it with you. We look forward to seeing you there.
X-ALT-DESC;FMTTYPE=text/html:<span style="font-family: times new roman\,serif\;"><span style="font-size: 12pt\;">On behalf of Prime Companies\, I cordially invite you to the grand opening of the Spa City&rsquo\;s newest luxury apartment complex &ndash\; The Hamlet at Saratoga Springs. We are excited to showcase this new development\, which will bring more residents within close proximity to the outstanding restaurants and shops that make up Saratoga Spring&rsquo\;s nationally-recognized downtown. </span></span><br />\n&nbsp\;<br />\n<span style="font-family: times new roman\,serif\;"><span style="font-size: 12pt\;">Located adjacent to the Fresh Market Plaza\, The Hamlet at Saratoga Springs features 55 luxury units\, hotel amenities\, maintenance-free living\, indoor and covered parking\, private balconies\, common areas\, and 24/7 customer care. The conveniently-located complex is also within walking distance of downtown Saratoga Springs and Saratoga Race Course.</span></span><br />\n&nbsp\;<br />\n<span style="font-family: times new roman\,serif\;"><span style="font-size: 12pt\;">The grand opening will take place at The Hamlet at Saratoga Springs at 56 Marion Avenue on <strong>Wednesday\, May 4 at 11 a.m</strong>. The event begins inside the front entrance. The grand opening will be marked by a ribbon-cutting ceremony and a welcome speech. Tours of The Hamlet at Saratoga Springs will be available to guests. Light fare and hors d&rsquo\;oeuvres will be served.</span></span><br />\n&nbsp\;<br />\n<span style="color: rgb(0\, 112\, 192)\;"><span style="font-family: times new roman\,serif\;"><span style="font-size: 12pt\;">Please RSVP by e-mail to Danielle Koonce<br />\nat </span></span></span><a href="mailto:dkoonce@theprimecompanies.com?subject=Grand%20Opening%20RSVP">dkoonce@theprimecompanies.com</a><br />\n<span style="color: rgb(0\, 112\, 192)\;"><span style="font-family: times new roman\,serif\;"><span style="font-size: 12pt\;">no later than <strong>Monday\, May 2</strong>.</span></span></span><br />\n&nbsp\;<br />\n<span style="font-family: times new roman\,serif\;"><span style="font-size: 12pt\;">This exciting project has reached its completion and Prime Companies welcomes the opportunity to share it with you. We look forward to seeing you there.</span></span><br />\n&nbsp\;
LOCATION:The Hamlet at Saratoga Springs 56 Marion Ave. Saratoga Springs (next to Fresh Market)
UID:e.2254.16437
SEQUENCE:3
DTSTAMP:20260421T161315Z
URL:https://chamber.saratoga.org/events/details/grand-opening-of-the-hamlet-at-saratoga-springs-05-04-2016-16437
END:VEVENT

END:VCALENDAR
