BEGIN:VCALENDAR
VERSION:2.0
PRODID:-//ChamberMaster//Event Calendar 2.0//EN
METHOD:PUBLISH
X-PUBLISHED-TTL:P3D
REFRESH-INTERVAL:P3D
CALSCALE:GREGORIAN
BEGIN:VEVENT
DTSTART:20150516T150000Z
DTEND:20150516T200000Z
X-MICROSOFT-CDO-ALLDAYEVENT:FALSE
SUMMARY:Grand Opening Celebration - Common Roots Brewery
DESCRIPTION:This is the event we've been planning for since our "soft opening" in December... and it's going to be EPIC!\n\n\n\nMany of you patiently stuck with us throughout our renovation and soft opening period. This is our way of saying\, "Thanks for being awesome.... Now let's party."\n\n\n\nNew beer releases. Live music. Tasty grub. Awesome people. It's going to be one crazy celebration.\n\n\n\nSee you all May 16th!
X-ALT-DESC;FMTTYPE=text/html:<span class="fsl">This is the event we&#39\;ve been planning for since our &quot\;soft opening&quot\; in December... and it&#39\;s going to be EPIC!<br />\n<br />\nMany of you patiently stuck with us throughout our renovation and soft opening period. This is our way of saying\, &quot\;Thanks for being awesome.... Now let&#39\;s party.&quot\;<br />\n<br />\nNew beer releases. Live music. Tasty grub. Awesome people. It&#39\;s going to be one crazy celebration.<br />\n<br />\nSee you all May 16th!</span>
LOCATION:58 Saratoga Avenue South Glens Falls\, NY 12803
UID:e.2254.8341
SEQUENCE:3
DTSTAMP:20260423T170728Z
URL:https://chamber.saratoga.org/events/details/grand-opening-celebration-common-roots-brewery-05-16-2015-8341
END:VEVENT

END:VCALENDAR
