BEGIN:VCALENDAR
VERSION:2.0
PRODID:-//ChamberMaster//Event Calendar 2.0//EN
METHOD:PUBLISH
X-PUBLISHED-TTL:P3D
REFRESH-INTERVAL:P3D
CALSCALE:GREGORIAN
BEGIN:VEVENT
DTSTART:20160820T130000Z
DTEND:20160820T200000Z
X-MICROSOFT-CDO-ALLDAYEVENT:FALSE
SUMMARY:Gourd Mask with Carol Maher. #870-0820.
DESCRIPTION:Let your primitive instincts guide you in the creation of a unique mask to display. You will cut and clean your gourd\, then design and decorate it using your choice of various materials. If you have a talisman you wish to incorporate\, bring it along. Many believe these mysterious faces have power to heal and bless. Students may also finish the lower half of the gourd as a bowl. No experience necessary.
X-ALT-DESC;FMTTYPE=text/html:<pre>\n<span style="font-size:12pt"><span style="font-family:arial\,sans-serif"><span style="color:black">Let your primitive instincts guide you in the creation of a unique mask to display. You will cut and clean your gourd\, then design and decorate it using your choice of various materials. If you have a talisman you wish to incorporate\, bring it along. Many believe these mysterious faces have power to heal and bless. Students may also finish the lower half of the gourd as a bowl. No experience necessary.</span></span></span></pre>\n
LOCATION:Adirondack Folk School 51 Main Street Lake Luzerne\, NY 12846
UID:e.2254.16114
SEQUENCE:3
DTSTAMP:20260421T022811Z
URL:https://chamber.saratoga.org/events/details/gourd-mask-with-carol-maher-870-0820-08-20-2016-16114
END:VEVENT

END:VCALENDAR
