BEGIN:VCALENDAR
VERSION:2.0
PRODID:-//ChamberMaster//Event Calendar 2.0//EN
METHOD:PUBLISH
X-PUBLISHED-TTL:P3D
REFRESH-INTERVAL:P3D
CALSCALE:GREGORIAN
BEGIN:VEVENT
DTSTART:20140712T150000Z
DTEND:20140713T010000Z
X-MICROSOFT-CDO-ALLDAYEVENT:FALSE
SUMMARY:Globesity\, Inc's 2nd Annual Dance-a-thon 2014 - 07/12/2014
DESCRIPTION:Professional dance instructors will teach basic dance steps in the afternoon and participants can perform those steps that night to a live band.Globesity Inc. is a non-profit obesity prevention corporation. Its obesity prevention physicians provide free screening\, education and preventive treatment for those ethnic groups that have the highest rates of obesity and who do not have the financial resources or insurance to cover preventive care.  Dance-a-thon 2014 and the Dinner/Dance combine two significant components of obesity treatment...nutritious diet and exercise.  The dinner buffet will offer tasty\, delicious and nutritious dishes while dancing will act as exercise in disguise.
X-ALT-DESC;FMTTYPE=text/html:<p>Professional dance instructors will teach basic dance steps in the afternoon and participants can perform those steps that night to a live band.</p>Globesity Inc. is a non-profit obesity prevention corporation. Its obesity prevention physicians provide free screening\, education and preventive treatment for those ethnic groups that have the highest rates of obesity and who do not have the financial resources or insurance to cover&nbsp\;preventive&nbsp\;care.&nbsp\; Dance-a-thon 2014 and the Dinner/Dance combine two significant components of obesity treatment...nutritious diet and exercise.&nbsp\; The dinner buffet will offer tasty\, delicious and nutritious dishes&nbsp\;while dancing&nbsp\;will act as&nbsp\;exercise in disguise.
LOCATION:National Museum of Dance
UID:e.2254.3287
SEQUENCE:3
DTSTAMP:20260424T205028Z
URL:https://chamber.saratoga.org/events/details/globesity-inc-s-2nd-annual-dance-a-thon-2014-07-12-2014-07-12-2014-3287
END:VEVENT

END:VCALENDAR
