BEGIN:VCALENDAR
VERSION:2.0
PRODID:-//ChamberMaster//Event Calendar 2.0//EN
METHOD:PUBLISH
X-PUBLISHED-TTL:P3D
REFRESH-INTERVAL:P3D
CALSCALE:GREGORIAN
BEGIN:VEVENT
DTSTART:20151111T223000Z
DTEND:20151112T003000Z
X-MICROSOFT-CDO-ALLDAYEVENT:FALSE
SUMMARY:GLOBALFOUNDRIES Fab 8 Open House
DESCRIPTION:Please join us for the third annual Fab 8 Open House on Wednesday\, November 11\, from 5:30 - 7:30 pm.  The Fab 8 Open House is an opportunity for the company to meet with the community\, provide updates on the company project\, and answer questions from community stakeholders.  The event is open to the public.  This year's event is redesigned to provide even more of an interactive educational experience.  Learn about the company\, the Fab 8 Campus and our employees. Exhibits will include:\n\n\n\n	Fab 8 Site Update- Hear an update on the construction and operation of the most leading-edge semiconductor foundry manufacturing facility in the US.\n	Manufacturing Process Overview - Learn about the journey a wafer takes through the manufacturing process\; "show and tell" displays.  A wafer sorter\, one of the tools used in the cleanroom\, will also be on display.\n	Bunny Suit Demo - See the specialized "bunny" suits employees wear while working in the cleanroom\, and even try them on yourself! \n	FIRST  Robotics Demonstration - The local FIRST  Robotics Teams will showcase the robotics they designed\, built and compete with in regional competitions.  This station will also highlight the FIRST  Coalition\, launched\n\n	 by GLOBALFOUNDRIES\,which has raised over $500\,000 to support STEM education through FIRST  programs.\n	\n	New! Cultural Diversity Showcase -\n	  Fab 8 brings over 50 different cultures to this region.  Meet our employees to be introduced to their cultural backgrounds.\n	New! Environmental Sustainability & Site Safety -Fab 8's top priority is the safety of our employees and the community.  Learn more about our environmental sustainability efforts\, and speak with members of the Emergency Response Team to learn about the specialized trainings this team receives and their partnership with local first responders.\n\n\nDonate to Toys for Tots! \n\nEach year\, GLOBALFOUNDRIES hosts a Toy for Tots drive for employees to give back to the community during the holidays.  This year\, we invite the community to make a donation to our drive to help make this year's drive even more successful!  Visit with the Fab 8 Volunteer Committee to learn more about how GLOBALFOUNDRIES gives back to our community.\n\n \nMalta 5K Check Presentation\n\nIn partnership with the Malta Business & Professional Association (MBPA)\, a check presentation will take place at 6:15 pm to VetHelpNY\, Malta Ridge Fire Department\, Round Lake Fire Department\, and Malta Ambulance - a result of the sixth annual Malta 5K\, in which GLOBALFOUNDRIES is the presenting sponsor.\n\n\n\nDirections\n\nTo reach the Fab 8 Campus from Rt. 9 in Malta\, turn onto Stonebreak Road and head East into Luther Forest Technology Campus.  Take the second right turn around the roundabout and head up the hill toward the Fab 8 Campus.  Take a right at the traffic light and follow the "Employee Entrance" signs.\n\n\n\nParking\n\nParking is available on the Fab 8 Campus. As you drive onto the campus\, please stop at the Security booth and let the guard know you are a visitor for the Fab 8 Open House.  Please Park in Lots B & D located directly in front of the buildings.  Please let the Security Guard know if you need handicap parking and they will direct you accordingly.\n \n\nPlease follow the sidewalks and crosswalks to the Admin1 Main Lobby (under the large orange awning).
X-ALT-DESC;FMTTYPE=text/html:<div><span style="font-size: 12px\;"><span style="font-family: arial\,helvetica\,sans-serif\;">Please join us for the third annual Fab 8 Open House on Wednesday\, November 11\, from 5:30 - 7:30 pm.</span></span><span style="font-size: 11px\;"><span style="font-family: arial\,helvetica\,sans-serif\;">&nbsp\; <span style="font-size: 12px\;">The Fab 8 Open House is an opportunity for the company to meet with the community\, provide updates on the company project\, and answer questions from community stakeholders. &nbsp\;The event is open to the public. &nbsp\;</span></span></span><span style="font-size: 12px\;"><span style="font-family: arial\,helvetica\,sans-serif\;">This year&#39\;s event is redesigned to provide even more of an interactive educational experience. &nbsp\;Learn about the company\, the Fab 8 Campus and our employees. Exhibits will include:</span></span></div>\n\n<div>\n<ul>\n	<li><span style="font-size: 12px\;"><span style="font-family: arial\,helvetica\,sans-serif\;"><strong>Fab 8 Site Update</strong>- Hear an update on the construction and operation of the most leading-edge semiconductor foundry manufacturing facility in the US.</span></span></li>\n	<li><span style="font-size: 12px\;"><span style="font-family: arial\,helvetica\,sans-serif\;"><strong>Manufacturing Process Overview</strong>&nbsp\;- Learn about the journey a wafer takes through the manufacturing process\; &quot\;show and tell&quot\; displays. &nbsp\;A wafer sorter\, one of the tools used in the cleanroom\, will also be on display.</span></span></li>\n	<li><span style="font-size: 12px\;"><span style="font-family: arial\,helvetica\,sans-serif\;"><strong>Bunny Suit Demo&nbsp\;-</strong>&nbsp\;See the specialized &quot\;bunny&quot\; suits employees wear while working in the cleanroom\, and even try them on yourself!&nbsp\;</span></span></li>\n	<li><span style="font-size: 12px\;"><span style="font-family: arial\,helvetica\,sans-serif\;"><strong>FIRST&reg\; Robotics Demonstration</strong>&nbsp\;- The local FIRST&reg\; Robotics Teams will showcase the robotics they designed\, built and compete with in regional competitions. &nbsp\;This station will also highlight the FIRST&reg\;&nbsp\;Coalition\,&nbsp\;launched<br />\n	&nbsp\;by&nbsp\;GLOBALFOUNDRIES\,which has raised over $500\,000&nbsp\;to&nbsp\;support&nbsp\;STEM education through FIRST&reg\; programs.</span></span></li>\n	<li>\n	<div><span style="font-size: 12px\;"><span style="font-family: arial\,helvetica\,sans-serif\;"><strong><span style="color: rgb(230\, 122\, 39)\;">New!&nbsp\;</span>Cultural Diversity&nbsp\;Showcase -</strong></span></span></div>\n	<span style="font-size: 12px\;"><span style="font-family: arial\,helvetica\,sans-serif\;"><strong>&nbsp\;&nbsp\;</strong>Fab 8 brings over 50 different cultures to this region. &nbsp\;Meet our employees to be introduced to their cultural backgrounds.</span></span></li>\n	<li><span style="font-size: 12px\;"><span style="font-family: arial\,helvetica\,sans-serif\;"><strong><span style="color: rgb(230\, 122\, 39)\;">New!</span>&nbsp\;Environmental Sustainability &amp\; Site Safety&nbsp\;</strong>-Fab 8&#39\;s top priority is the safety of our employees and the community.&nbsp\; Learn more about our environmental sustainability efforts\, and speak&nbsp\;with members of the Emergency Response Team to learn about the&nbsp\;specialized&nbsp\;trainings&nbsp\;this team receives and their&nbsp\;partnership with local first responders.</span></span></li>\n</ul>\n\n<div><span style="color: rgb(255\, 165\, 0)\;"><span style="font-size: 12px\;"><span style="font-family: arial\,helvetica\,sans-serif\;"><em><strong>Donate to Toys for Tots!&nbsp\;</strong></em></span></span></span></div>\n\n<div><span style="font-size: 12px\;"><span style="font-family: arial\,helvetica\,sans-serif\;">Each year\, GLOBALFOUNDRIES hosts a Toy for Tots drive for employees to give back to the community during the holidays. &nbsp\;This year\, we invite the community to make a donation to our drive to help make this year&#39\;s drive even more successful! &nbsp\;Visit with the Fab 8 Volunteer Committee to learn more about how GLOBALFOUNDRIES gives back to our community.</span></span><br />\n&nbsp\;\n<div><span style="color: rgb(255\, 165\, 0)\;"><span style="font-size: 12px\;"><span style="font-family: arial\,helvetica\,sans-serif\;"><em><strong>Malta 5K Check Presentation</strong></em></span></span></span></div>\n\n<div><span style="font-size: 12px\;"><span style="font-family: arial\,helvetica\,sans-serif\;">In partnership with the Malta Business &amp\; Professional Association (MBPA)\, a check presentation will take place at 6:15 pm to VetHelpNY\, Malta Ridge Fire Department\, Round Lake Fire Department\, and Malta Ambulance - a result of the sixth annual Malta 5K\, in which GLOBALFOUNDRIES is the presenting sponsor.<br />\n<br />\n<span style="color: rgb(255\, 140\, 0)\;"><em><strong>Directions</strong></em></span></span></span><br />\n<span style="font-size: 11px\;"><span style="font-family: arial\,helvetica\,sans-serif\;">To reach the Fab 8 Campus from Rt. 9 in Malta\, turn onto Stonebreak Road and head East into Luther Forest Technology Campus. &nbsp\;Take the second right turn around the roundabout and head up the hill toward the Fab 8 Campus. &nbsp\;Take a right at the traffic light and follow the &quot\;Employee Entrance&quot\; signs.</span><br />\n<br />\n<span style="color: rgb(255\, 165\, 0)\;"><em><strong><span style="font-size: 12px\;">Parking</span></strong></em></span></span>\n\n<div><span style="font-size: 12px\;"><span style="font-family: arial\,helvetica\,sans-serif\;">Parking is available on the Fab 8 Campus. As you drive onto the campus\, please stop at the Security booth and let the guard know you are a visitor for the Fab 8 Open House. &nbsp\;Please Park in Lots B &amp\; D located directly in front of the buildings. &nbsp\;Please let the Security Guard know if you need handicap parking and they will direct you accordingly.</span></span></div>\n&nbsp\;\n\n<div><span style="font-size: 12px\;"><span style="font-family: arial\,helvetica\,sans-serif\;">Please follow the sidewalks and crosswalks to the Admin1 Main Lobby (under the large orange awning).</span></span></div>\n</div>\n</div>\n</div>\n
LOCATION:GLOBALFOUNDRIES Fab 8: 400 Stonebreak Road Extension\, Malta\, NY 12020
UID:e.2254.12791
SEQUENCE:3
DTSTAMP:20260422T103308Z
URL:https://chamber.saratoga.org/events/details/globalfoundries-fab-8-open-house-11-11-2015-12791
END:VEVENT

END:VCALENDAR
