BEGIN:VCALENDAR
VERSION:2.0
PRODID:-//ChamberMaster//Event Calendar 2.0//EN
METHOD:PUBLISH
X-PUBLISHED-TTL:P3D
REFRESH-INTERVAL:P3D
CALSCALE:GREGORIAN
BEGIN:VEVENT
DTSTART:20151018T160000Z
DTEND:20151018T200000Z
X-MICROSOFT-CDO-ALLDAYEVENT:FALSE
SUMMARY:Girls Day Out at the Saratoga Winery
DESCRIPTION:Shop- Give-Sip! Join in for a fun "Pay It Forward" event taking place at The Saratoga Winery! It all kicks off at 11am with " A Class And A Glass" workout.  This class\, designed for all fitness levels is the perfect way to get your morning off right.   A fun blend of cardio\, strength and yoga will be provided by Custom Fitness. The class is $20 and includes a glass of wine for your reward after.  From 12-4pm we'll have a wide variety of goodies for you to enjoy while you sip.  Professional Make-up and lashes\, Massage\, Astrology\, Posture Analysis\, Single/group photos\, Unique Jewelry and more! For full details visit: https://www.facebook.com/events/1487854058207990/ http://moxieswap.wix.com/moxieswap
X-ALT-DESC;FMTTYPE=text/html:Shop- Give-Sip! Join in for a fun &quot\;Pay It Forward&quot\; event taking place at The Saratoga Winery! It all kicks off at 11am with &quot\; A Class And A Glass&quot\; workout.&nbsp\; This class\, designed for all fitness levels is the perfect way to get your morning off right.&nbsp\; &nbsp\;A fun blend of cardio\, strength and yoga will be provided by Custom Fitness. The class is $20 and includes a glass of wine for your reward after.&nbsp\; From 12-4pm we&#39\;ll have a wide variety of goodies for you to enjoy while you sip.&nbsp\; Professional Make-up and lashes\, Massage\, Astrology\, Posture Analysis\, Single/group photos\, Unique Jewelry and more! For full details visit: https://www.facebook.com/events/1487854058207990/ http://moxieswap.wix.com/moxieswap
LOCATION:Saratoga Winery 462-NY-29 Saratoga Springs\, NY 12866
UID:e.2254.12734
SEQUENCE:3
DTSTAMP:20260422T160153Z
URL:https://chamber.saratoga.org/events/details/girls-day-out-at-the-saratoga-winery-10-18-2015-12734
END:VEVENT

END:VCALENDAR
