BEGIN:VCALENDAR
VERSION:2.0
PRODID:-//ChamberMaster//Event Calendar 2.0//EN
METHOD:PUBLISH
X-PUBLISHED-TTL:P3D
REFRESH-INTERVAL:P3D
CALSCALE:GREGORIAN
BEGIN:VEVENT
DTSTART:20161027T220000Z
DTEND:20161028T020000Z
X-MICROSOFT-CDO-ALLDAYEVENT:FALSE
SUMMARY:Girlfriends Helping Girlfriends\, a Girls' Night Out
DESCRIPTION:Join us for a girls' night out complete with couture\, pampering\, great food and drink\, silent auction and shopping. The evening will include a fashion show featuring local vendors.   Local vendors will be displaying their finest fashion lines and accessories.  The proceeds will support the work of Wellspring with the survivors of domestic violence and sexual assault.
X-ALT-DESC;FMTTYPE=text/html:<span style="color: rgb(20\, 24\, 35)\; font-family: helvetica\,arial\,sans-serif\; font-size: 14px\;">Join us for a girls&rsquo\; night out complete with couture\, pampering\, great food and drink\, silent auction and shopping. The evening will include a fashion show featuring local vendors.&nbsp\; &nbsp\;Local vendors will be displaying their finest fashion lines and accessories.&nbsp\; The proceeds will support the work of Wellspring with the survivors of domestic violence and sexual assault.</span><br />\n&nbsp\;
LOCATION:Longfellow's Hotel\, Restaurant and Conference Center 500 Union Avenue Saratoga Springs
UID:e.2254.19466
SEQUENCE:3
DTSTAMP:20260420T214645Z
URL:https://chamber.saratoga.org/events/details/girlfriends-helping-girlfriends-a-girls-night-out-19466
END:VEVENT

END:VCALENDAR
