BEGIN:VCALENDAR
VERSION:2.0
PRODID:-//ChamberMaster//Event Calendar 2.0//EN
METHOD:PUBLISH
X-PUBLISHED-TTL:P3D
REFRESH-INTERVAL:P3D
CALSCALE:GREGORIAN
BEGIN:VEVENT
DTSTART:20161115T223000Z
DTEND:20161116T020000Z
X-MICROSOFT-CDO-ALLDAYEVENT:FALSE
SUMMARY:Girl's Night with Cosmedix
DESCRIPTION:Join us for an evening of fun\, giveaways\, hors d'oeuvres\, wine and to learn about the newest product line Complexions is introducing CosMedix. CosMedix is a leader in the industry and trusted by physicians\, aestheticians\, and consumers worldwide. CosMedix International Director of Education\, Ryan Christopher will be in-house offering personalized skin consultations and a presentation on how to care for your skin at any age for flawless results! Each guest will receive a personal skin analysis and treatment recommendations based on their concerns. Take advantage of introductory soecials and find out why CosMedix skincare is revolutionizing the skincare industry! Admission is FREE\, giving you access to: - product sampling - Visia skin analysis (a value of $100) - demonstrations - complimentary gifts - special gift with purchase - free spa dollars PLUS\, BRING A FRIEND AND DOUBLE YOUR RAFFLE ENTRY TO WIN MAJOR PRIZES! Please RSVP to 518-306-5502
X-ALT-DESC;FMTTYPE=text/html:Join us for an evening of fun\, giveaways\, hors d&#39\;oeuvres\, wine and to learn about the newest product line Complexions is introducing CosMedix. CosMedix is a leader in the industry and trusted by physicians\, aestheticians\, and consumers worldwide. CosMedix International Director of Education\, Ryan Christopher will be in-house offering personalized skin consultations and a presentation on how to care for your skin at any age for flawless results! Each guest will receive a personal skin analysis and treatment recommendations based on their concerns. Take advantage of introductory soecials and find out why CosMedix skincare is revolutionizing the skincare industry! Admission is FREE\, giving you access to: - product sampling - Visia skin analysis (a value of $100) - demonstrations - complimentary gifts - special gift with purchase - free spa dollars PLUS\, BRING A FRIEND AND DOUBLE YOUR RAFFLE ENTRY TO WIN MAJOR PRIZES! Please RSVP to 518-306-5502
LOCATION:Complexions Spa 268 Broadway Saratoga Springs\, NY 12866
UID:e.2254.21167
SEQUENCE:3
DTSTAMP:20260420T200916Z
URL:https://chamber.saratoga.org/events/details/girl-s-night-with-cosmedix-21167
END:VEVENT

END:VCALENDAR
