BEGIN:VCALENDAR
VERSION:2.0
PRODID:-//ChamberMaster//Event Calendar 2.0//EN
METHOD:PUBLISH
X-PUBLISHED-TTL:P3D
REFRESH-INTERVAL:P3D
CALSCALE:GREGORIAN
BEGIN:VEVENT
DTSTART:20140926T190000Z
DTEND:20141031T020000Z
X-MICROSOFT-CDO-ALLDAYEVENT:FALSE
SUMMARY:Ghosts in the Yaddo Garden Tours - 09/26/2014
DESCRIPTION:Experience the Spirit(s) of the Gardens- Friday and Sunday evenings at 5pm \nExperience the Spirit(s) of the Gardens\n \nFeel the energy and creativity of the forces of the Earth!\n \nShare in the spiritual intrigue from Native Americans\, Edgar Allan Poe\, the Trask family and other contemporary visitors!\n'Ghosts in the Yaddo Garden Tours' will be held on Friday and Sunday evenings at5 p.m.\, September 26th through October 31st.\nDocent led tours begin at the Yaddo Garden parking lot and last for approximately one hour.\n \nCost is $10 per person (children 12 and under are free).\n Private docent led ghost tours may be arranged at a date convenient to your group from September 12th through October 31st.\nContact Yaddo at 518 584-0746 or www.yaddo.org \nfor more information.
X-ALT-DESC;FMTTYPE=text/html:<p>Experience the Spirit(s) of the Gardens- Friday and Sunday evenings at 5pm</p><p>&nbsp\;</p>\n<p align="left"><strong><span style="font-size: large\;">Experience the Spirit(s) of the Gardens</span></strong></p>\n<p>&nbsp\;</p>\n<p align="left"><strong><span style="font-size: large\;">Feel the energy and creativity of the forces of the Earth!</span></strong></p>\n<p>&nbsp\;</p>\n<p align="left"><strong><span style="font-size: large\;">Share in the spiritual intrigue from Native Americans\, Edgar Allan Poe\, the </span><span style="font-size: large\;">Trask family and other contemporary visitors!</span></strong></p>\n<p><strong><span style="font-family: Georgia-Bold\; font-size: large\;">&lsquo\;Ghosts in the Yaddo Garden Tours&rsquo\; will be held on Friday and Sunday evenings at</span><span style="font-size: large\;">5 p.m.\, September 26th through October 31st.</span></strong></p>\n<p align="left"><strong><span style="font-family: Georgia-Bold\; font-size: large\;">Docent led tours begin at the Yaddo Garden parking lot and </span><span style="font-family: Georgia-Bold\; font-size: large\;">last for approximately </span><span style="font-size: large\;">one hour.</span></strong></p>\n<p align="left">&nbsp\;</p>\n<p align="left"><strong><span style="font-family: Georgia-Bold\; font-size: large\;">Cost is $10 per person (children 12 and under are free).</span></strong></p>\n<p align="left">&nbsp\;<strong><span style="font-family: Georgia-Bold\; font-size: large\;">Private docent led ghost tours may be arranged at a date convenient to your group </span></strong><strong><span style="font-size: large\;">from September 12th through October 31st.</span></strong></p>\n<p><strong><span style="font-family: Georgia-Bold\; font-size: large\;"><span style="font-family: Georgia-Bold\; font-size: large\;">Contact Yaddo at 518 584-0746 or </span></span><span style="font-family: Georgia-Bold\; color: #0052c3\; font-size: large\;"><span style="font-family: Georgia-Bold\; color: #0052c3\; font-size: large\;"><span style="font-family: Georgia-Bold\; color: #0052c3\; font-size: large\;">www.yaddo.org </span></span></span></strong></p>\n<p><strong><span style="font-family: Georgia-Bold\; font-size: large\;">for more information.</span></strong></p>\n<p>&nbsp\;</p>
LOCATION:Yaddo Gardens
UID:e.2254.1862
SEQUENCE:3
DTSTAMP:20260424T093633Z
URL:https://chamber.saratoga.org/events/details/ghosts-in-the-yaddo-garden-tours-09-26-2014-09-26-2014-1862
END:VEVENT

END:VCALENDAR
