BEGIN:VCALENDAR
VERSION:2.0
PRODID:-//ChamberMaster//Event Calendar 2.0//EN
METHOD:PUBLISH
X-PUBLISHED-TTL:P3D
REFRESH-INTERVAL:P3D
CALSCALE:GREGORIAN
BEGIN:VEVENT
DTSTART:20160715T090000Z
DTEND:20160715T230000Z
X-MICROSOFT-CDO-ALLDAYEVENT:FALSE
SUMMARY:Ghostbuster Movie Premier-The ScaryToga Project Launch Event
DESCRIPTION:The ScaryToga Project-Public Launch Ghostbuster Movie Premiere\n\nJoin us Friday\, July 15th for the Ghostbuster Premiere and public launch of The ScaryToga Project. ScaryToga Project is thrilled to Host the PREMIER SHOWING of the new GHOSTBUSTERS MOVIE at the Bow Tie Criterion Cinema in Downtown Saratoga Springs. Meet and greet local Psychics Michelle Ann www.saratogaspiritualist.com\, Katie Manning Hilton\,www.katiemanninghilton.com\, www.hauntedsaratogatours.com\, author www.masonwinfield.com our hometown ALL GIRL Ghost Investigators SPRT\, www.facebook.com/Saratogaparanormalresearchteam/\, The ScaryToga Project Team\,www.facebook.com/ScaryToga/\, www.ScaryToga.com and some more GREAT surprises.\n\nThis mini-ParaPalooza will begin at 5pm and run to 7pm in the Lobby and out front of the Bow Tie Cinemas\, complete with Carriages\, The Costumer Hearse\, and our Real Lady Ghostbuster Team. Showing begins at 7pm.\n\nThe ScaryToga Project serves as the public resource and the portal to the other side of Saratoga Springs\, the Capital Region and beyond. It serves as a one-stop complete community access point for all things paranormal\, supernatural\, and the unexplained. The ScaryToga Project\, created January 2016\, features a wide array of paranormal history and information including regional historic haunted sites\, local psychics and spiritual artists\, ghost tours\, Haunted events\, local legends\, consumer attractions and more.
X-ALT-DESC;FMTTYPE=text/html:<h1>The ScaryToga Project-Public Launch Ghostbuster Movie Premiere</h1>\n\n<p>Join us Friday\, July 15<span style="font-size:13.5px">th</span>&nbsp\;for the Ghostbuster Premiere and public launch of&nbsp\;<strong>The ScaryToga Project</strong>. ScaryToga Project is thrilled to Host the PREMIER SHOWING of the new GHOSTBUSTERS MOVIE at the Bow Tie Criterion Cinema in Downtown Saratoga Springs. Meet and greet local Psychics Michelle Ann&nbsp\;<a href="http://www.saratogaspiritualist.com/" style="box-sizing: border-box\; color: rgb(132\, 189\, 0)\; -webkit-tap-highlight-color: rgba(0\, 0\, 0\, 0.298039)\; display: inline\; width: inherit\; border-bottom-style: none\; background: none\;" target="_blank">www.saratogaspiritualist.com</a>\, Katie Manning Hilton\,<a href="http://www.katiemanninghilton.com/" style="box-sizing: border-box\; color: rgb(132\, 189\, 0)\; -webkit-tap-highlight-color: rgba(0\, 0\, 0\, 0.298039)\; display: inline\; width: inherit\; border-bottom-style: none\; background: none\;">www.katiemanninghilton.com</a>\,&nbsp\;<a href="http://www.hauntedsaratogatours.com/" style="box-sizing: border-box\; color: black\; outline: dotted thin\; transition: all 0.2s ease-in-out\; -webkit-tap-highlight-color: rgba(0\, 0\, 0\, 0.298039)\; display: inline\; width: inherit\; border-bottom-style: none\; background: none\;">www.hauntedsaratogatours.com</a>\, author&nbsp\;<a href="http://www.masonwinfield.com/" style="box-sizing: border-box\; color: rgb(132\, 189\, 0)\; -webkit-tap-highlight-color: rgba(0\, 0\, 0\, 0.298039)\; display: inline\; width: inherit\; border-bottom-style: none\; background: none\;">www.masonwinfield.co</a>m our hometown ALL GIRL Ghost Investigators SPRT\,&nbsp\;<a href="http://www.facebook.com/Saratogaparanormalresearchteam/" style="box-sizing: border-box\; color: rgb(132\, 189\, 0)\; -webkit-tap-highlight-color: rgba(0\, 0\, 0\, 0.298039)\; display: inline\; width: inherit\; border-bottom-style: none\; background: none\;">www.facebook.com/Saratogaparanormalresearchteam/</a>\, The ScaryToga Project Team\,<a href="http://www.facebook.com/ScaryToga/" style="box-sizing: border-box\; color: rgb(132\, 189\, 0)\; -webkit-tap-highlight-color: rgba(0\, 0\, 0\, 0.298039)\; display: inline\; width: inherit\; border-bottom-style: none\; background: none\;">www.facebook.com/ScaryToga/</a>\,&nbsp\;<a href="http://www.scarytoga.com/" style="box-sizing: border-box\; color: rgb(132\, 189\, 0)\; -webkit-tap-highlight-color: rgba(0\, 0\, 0\, 0.298039)\; display: inline\; width: inherit\; border-bottom-style: none\; background: none\;">www.ScaryToga.com</a>&nbsp\;and some more GREAT surprises.</p>\n\n<p>This mini-ParaPalooza will begin at 5pm and run to 7pm in the Lobby and out front of the Bow Tie Cinemas\, complete with Carriages\, The Costumer Hearse\, and our Real Lady Ghostbuster Team. Showing begins at 7pm.</p>\n\n<p>The ScaryToga Project serves as the public resource and the portal to the other side of Saratoga Springs\, the Capital Region and beyond. It serves as a one-stop complete community access point for all things paranormal\, supernatural\, and the unexplained. The ScaryToga Project\, created January 2016\, features a wide array of paranormal history and information including regional historic haunted sites\, local psychics and spiritual artists\, ghost tours\, Haunted events\, local legends\, consumer attractions and more.</p>\n
LOCATION:BOW TIE CRITERION CINEMA 19 RAILROAD PL. SARATOGA SPRINGS
UID:e.2254.17213
SEQUENCE:3
DTSTAMP:20260421T051210Z
URL:https://chamber.saratoga.org/events/details/ghostbuster-movie-premier-the-scarytoga-project-launch-event-07-15-2016-17213
END:VEVENT

END:VCALENDAR
